BEGIN:VCALENDAR
PRODID:NingEventWidget-v1
VERSION:2.0
METHOD:PUBLISH
BEGIN:VTIMEZONE
TZID:Europe/London
X-LIC-LOCATION:Europe/London
BEGIN:DAYLIGHT
TZOFFSETFROM:+0000
TZOFFSETTO:+0100
TZNAME:BST
DTSTART:19700329T010000
RRULE:FREQ=YEARLY;BYMONTH=3;BYDAY=-1SU
END:DAYLIGHT
BEGIN:STANDARD
TZOFFSETFROM:+0100
TZOFFSETTO:+0000
TZNAME:GMT
DTSTART:19701025T020000
RRULE:FREQ=YEARLY;BYMONTH=10;BYDAY=-1SU
END:STANDARD
END:VTIMEZONE
BEGIN:VEVENT
UID:4626108:Event:68296
DTSTAMP:20260420T125454Z
SUMMARY:FREE Business Growth Lunch Seminar, Farnborough
DESCRIPTION:Business Doctors Workshop at The Village\n\nGrowing up - o
 r just growing?\nAt first glance, the signal that a business is doing 
 well is an increase in the bottom line. And there is nothing quite as 
 satisfying as seeing the line on the graph going in the right directio
 n.\nBut – and you knew this was coming…\nSuccessfully growing your
  business, and taking it to the next level, is about much more than th
 e bottom line.\nThe biggest driver to the business “growing up” fo
 r an owner managed business, is ensuring the business no longer relies
  on the owner.\nIn this seminar, David Norris, of Business Doctors, wi
 ll explore the business strategies and processes that need to be in pl
 ace for your business to grow up.\nThen, Laura Davis, of Reality HR, w
 ill be covering the crucial development of your people, and how essent
 ial your team are to your future success.\nAgenda:\n12-12.15 registrat
 ion & networking\n12.15 Presentation\n1.15 Lunch & questions\nCOST: FR
 EE to attend - but booking is essential please!\nBOOKING: Please CLICK
  HERE to book your free place\nMAP\n\nFor more information visit http
 s://networkinginsurrey.co.uk/events/growing-up-or-just-growing
DTSTART;TZID=Europe/London:20141015T120000
DTEND;TZID=Europe/London:20141015T140000
CATEGORIES:farnborough, free, lunch, seminar
LOCATION:The Village Hotel GU14 7BF
WEBSITE:https://www.google.co.uk/maps/place/Village+Urban+Resort+Farnb
 orough/@51.2929889,-0.5773175,11z/data=!3m1!5s0x48760284625affdb:0x3f9
 aae4224c84098!4m5!1m2!2m1!1sthe+de+vere+village+hotel!3m1!1s0x48742b30
 d3a22403:0xccb3a34b1de9edaf?hl=en
URL:https://www.google.co.uk/maps/place/Village+Urban+Resort+Farnborou
 gh/@51.2929889,-0.5773175,11z/data=!3m1!5s0x48760284625affdb:0x3f9aae4
 224c84098!4m5!1m2!2m1!1sthe+de+vere+village+hotel!3m1!1s0x48742b30d3a2
 2403:0xccb3a34b1de9edaf?hl=en
CONTACT:07712 776080
ORGANIZER;CN="David Norris":https://networkinginsurrey.co.uk/profile/D
 avidNorris
ATTACH;FMTTYPE="image/jpeg":http://storage.ning.com/topology/rest/1.0/
 file/get/2591420228?profile=original
ATTENDEE;ROLE=REQ-PARTICIPANT;PARTSTAT=ACCEPTED;RSVP=TRUE;CN="David No
 rris":https://networkinginsurrey.co.uk/profile/DavidNorris
END:VEVENT
END:VCALENDAR
