BEGIN:VCALENDAR
PRODID:NingEventWidget-v1
VERSION:2.0
METHOD:PUBLISH
BEGIN:VTIMEZONE
TZID:Europe/London
X-LIC-LOCATION:Europe/London
BEGIN:DAYLIGHT
TZOFFSETFROM:+0000
TZOFFSETTO:+0100
TZNAME:BST
DTSTART:19700329T010000
RRULE:FREQ=YEARLY;BYMONTH=3;BYDAY=-1SU
END:DAYLIGHT
BEGIN:STANDARD
TZOFFSETFROM:+0100
TZOFFSETTO:+0000
TZNAME:GMT
DTSTART:19701025T020000
RRULE:FREQ=YEARLY;BYMONTH=10;BYDAY=-1SU
END:STANDARD
END:VTIMEZONE
BEGIN:VEVENT
UID:4626108:Event:541633
DTSTAMP:20260419T191949Z
SUMMARY:Gold BNI Lunchtime Networking Online
DESCRIPTION:Gold BNI Lunchtime Networking Online\r\nAre you a Surrey-b
 ased company looking to grow your business? Fancy trying a business re
 ferral networking group? Why not come along and meet lots of business 
 owners and see how it works?\r\nGold BNI is the only BNI networking gr
 oup in Surrey that meets every week online, with an optional social fa
 ce to face every month.\r\n\r\nBe a part of a local network with globa
 l reach; not just Surrey. BNI is the largest and most successful busin
 ess networking organization with Members and Chapters in over 75 count
 ries.\r\nOur online meeting starts at midday but come along for a bit 
 of networking first. No obligation to join...we'd just love to meet yo
 u.\r\nGet in touch to find out more!\r\nCOST: FREE to first-time Visi
 tors \r\nBOOKING: Please go to our website here... click \"Visit Us\
 " to register your interest in joining us as a Visitor and we'll be i
 n touch\n\nFor more information visit https://networkinginsurrey.co.uk
 /events/gold-bni-online-business-networking-midday-every-friday
DTSTART;TZID=Europe/London:20240412T114500
DTEND;TZID=Europe/London:20240412T133000
CATEGORIES:business, networking
LOCATION:Zoom
WEBSITE:https://bnisurrey.com/gold/en-GB/index
URL:https://bnisurrey.com/gold/en-GB/index
CONTACT:07974758585
ORGANIZER:Liz Turner
ATTACH;FMTTYPE="image/jpeg":https://storage.ning.com/topology/rest/1.0
 /file/get/12421837290?profile=original
ATTENDEE;ROLE=REQ-PARTICIPANT;PARTSTAT=ACCEPTED;RSVP=TRUE;CN="Elizabet
 h Turner":https://networkinginsurrey.co.uk/profile/ElizabethTurner
END:VEVENT
END:VCALENDAR
