BEGIN:VCALENDAR
PRODID:NingEventWidget-v1
VERSION:2.0
METHOD:PUBLISH
BEGIN:VTIMEZONE
TZID:Europe/London
X-LIC-LOCATION:Europe/London
BEGIN:DAYLIGHT
TZOFFSETFROM:+0000
TZOFFSETTO:+0100
TZNAME:BST
DTSTART:19700329T010000
RRULE:FREQ=YEARLY;BYMONTH=3;BYDAY=-1SU
END:DAYLIGHT
BEGIN:STANDARD
TZOFFSETFROM:+0100
TZOFFSETTO:+0000
TZNAME:GMT
DTSTART:19701025T020000
RRULE:FREQ=YEARLY;BYMONTH=10;BYDAY=-1SU
END:STANDARD
END:VTIMEZONE
BEGIN:VEVENT
UID:4626108:Event:82504
DTSTAMP:20260424T222729Z
SUMMARY:Going for Gold Charity Networking Day, Frimley
DESCRIPTION:Fabulous Women Going For Gold Day at Pine Ridge\n\nItâ€™s 
 business, itâ€™s fun and it will be inspirational so we hope that youâ
 €™ll want to be there. Whatâ€™s more all profits will go to St. Cather
 ineâ€™s hospice in memory of our friend Rob Sedgwick and weâ€™re sure 
 thatâ€™s something youâ€™ll want to support.\nWhat is Going for Gold?\
 nWeâ€™re aiming to bring together members from all of the networking o
 rganisations that Rob belonged to, and their friends, for a day of net
 working, learning and fun. Thereâ€™ll be:\n\nÂ  Â  Â Â inspirational t
 alks on the theme of â€˜Going for Goldâ€™ (can you tell weâ€™ve been i
 nspired by Team GBâ€™s successes this summer?)\nÂ  Â  Â Â a range of n
 etworking opportunities throughout the day including speed networking\
 nÂ  Â  Â Â a mini exhibition\nÂ  Â  Â Â a raffle and other fund raisin
 g activities\nÂ  Â  Â Â Tea, Coffee, OJ, Fruit Platter on arrival\nÂ  
 Â  Â Â Mid-morning tea, coffee & biscuits\nÂ  Â  Â Â Picnic themed lun
 ch\nÂ  Â  Â Â Afternoon tea, coffee, home-made scones, jam & clotted c
 ream, Elderflower Presse & Pink Lemonade\nÂ  Â  Â Â Free parking\nÂ  Â
   Â Â * Optional ten pin bowling after 3.30pm, subject to sufficient n
 umbers wishing to stay. At additional cost\n\nWe promise you a day tha
 t will be energising, uplifting and good for business and that will ra
 ise funds for a very good cause in memory of an exceptional man. We do
  hope you can join us.\nCOST:Â Â£59 (Fabulous Women Members Â£49) -Â E
 arlybird Discounts ***book before 9 September to save Â£10 per ticket*
 **\nBOOKING:Â PleaseforÂ Â CLICK HEREÂ to visit our website thenÂ clic
 k on the blue \"Yes I'm Attending\" button on the right\nMAP\n\nFor mo
 re information visit https://networkinginsurrey.co.uk/events/going-for
 -gold-surrey
DTSTART;TZID=Europe/London:20160929T093000
DTEND;TZID=Europe/London:20160929T153000
CATEGORIES:fundraiser, and, collaboration, of, networks
LOCATION:Pine Ridge Golf Club - Old Bisley Road, Frimley, GU16 9NX
WEBSITE:https://www.eventbrite.co.uk/e/going-for-gold-tickets-27324925
 588
URL:https://www.eventbrite.co.uk/e/going-for-gold-tickets-27324925588
CONTACT:07768197507
ORGANIZER;CN="Jane Hardy":https://networkinginsurrey.co.uk/profile/Jan
 eHardy
ATTACH;FMTTYPE="image/jpeg":http://storage.ning.com/topology/rest/1.0/
 file/get/2591459886?profile=original
ATTENDEE;ROLE=REQ-PARTICIPANT;PARTSTAT=ACCEPTED;RSVP=TRUE;CN="Jane Har
 dy":https://networkinginsurrey.co.uk/profile/JaneHardy
END:VEVENT
END:VCALENDAR
