BEGIN:VCALENDAR
PRODID:NingEventWidget-v1
VERSION:2.0
METHOD:PUBLISH
BEGIN:VTIMEZONE
TZID:Europe/London
X-LIC-LOCATION:Europe/London
BEGIN:DAYLIGHT
TZOFFSETFROM:+0000
TZOFFSETTO:+0100
TZNAME:BST
DTSTART:19700329T010000
RRULE:FREQ=YEARLY;BYMONTH=3;BYDAY=-1SU
END:DAYLIGHT
BEGIN:STANDARD
TZOFFSETFROM:+0100
TZOFFSETTO:+0000
TZNAME:GMT
DTSTART:19701025T020000
RRULE:FREQ=YEARLY;BYMONTH=10;BYDAY=-1SU
END:STANDARD
END:VTIMEZONE
BEGIN:VEVENT
UID:4626108:Event:539555
DTSTAMP:20260424T214818Z
SUMMARY:FREE Get Connected Morning, Guildford
DESCRIPTION:Free Breakfast Time Networking at Metro Bank \r\n\r\nGet C
 onnected is a great way to grow your local business community in a sim
 ple, relaxed, informal setting, you make it what you want it to be for
  you.\r\nEveryone is welcome.\r\nThis is not â€˜networkingâ€™ as you k
 now it.\r\n\r\nItâ€™s FREE\r\nDrop in at any time between 08:30-10:00\
 r\nStay for as long or short as you like!\r\nNo elevator pitch\r\nNo l
 ocking out\r\nNo expectations around visitors or referrals\r\n\r\nWeâ€
 ™re just simply bringing businesses together to broaden our local busi
 ness community.\r\nCOST: FREE\r\nBOOKING:Â PleaseÂ CLICK HEREÂ to book
  your free place\r\nMAP\n\nFor more information visit https://networki
 nginsurrey.co.uk/events/get-connected-guildford
DTSTART;TZID=Europe/London:20231006T083000
DTEND;TZID=Europe/London:20231006T100000
CATEGORIES:networking
LOCATION:Metro Bank
WEBSITE:https://www.eventbrite.co.uk/e/get-connected-guildford-tickets
 -717095510977?aff=oddtdtcreator
URL:https://www.eventbrite.co.uk/e/get-connected-guildford-tickets-717
 095510977?aff=oddtdtcreator
CONTACT:0118 380 5130
ORGANIZER:Get Ahead VA
ATTACH;FMTTYPE="image/jpeg":https://storage.ning.com/topology/rest/1.0
 /file/get/12233572289?profile=original
ATTENDEE;ROLE=REQ-PARTICIPANT;PARTSTAT=ACCEPTED;RSVP=TRUE;CN="Helen Jo
 nes":https://networkinginsurrey.co.uk/profile/HelenJones
END:VEVENT
END:VCALENDAR
