BEGIN:VCALENDAR
PRODID:NingEventWidget-v1
VERSION:2.0
METHOD:PUBLISH
BEGIN:VTIMEZONE
TZID:Europe/London
X-LIC-LOCATION:Europe/London
BEGIN:DAYLIGHT
TZOFFSETFROM:+0000
TZOFFSETTO:+0100
TZNAME:BST
DTSTART:19700329T010000
RRULE:FREQ=YEARLY;BYMONTH=3;BYDAY=-1SU
END:DAYLIGHT
BEGIN:STANDARD
TZOFFSETFROM:+0100
TZOFFSETTO:+0000
TZNAME:GMT
DTSTART:19701025T020000
RRULE:FREQ=YEARLY;BYMONTH=10;BYDAY=-1SU
END:STANDARD
END:VTIMEZONE
BEGIN:VEVENT
UID:4626108:Event:82090
DTSTAMP:20260425T033620Z
SUMMARY:FREE FSB Regional Conference Day, Gatwick
DESCRIPTION:FSB Regional Conference at the Holiday Inn Gatwick\n\nExpo
 rting is Great - UKTI will join us at Conference throughout the day to
  provide the latest information on the benefits of exporting. Why not 
 find out if exporting is good for your business?\nIn keeping with the 
 grass roots of FSB and it's branch level foundation all of our 9 branc
 hes are invited to submit a motion for debate and one motion will be v
 oted on. Have your say by contacting your local branch committee with 
 your burning small business issue!\nOur Regional Conference is on Frid
 ay 30th September at The Holiday Inn, The Academy, Gatwick Airport, Po
 vey Cross RH6 0BA, free to attend with ample free parking but registra
 tion is essential for seats and catering. Danny Pike of BBC Radio Surr
 ey and Sussex is our host of the day.\nOur Conference Day will begin a
 t 9-30am with registration, coffee, bacon rolls and/or pastries. Durin
 g registration you will be offered your question request form for the 
 final session of our Conference at 2-45pm 'Question Time' (Brexit -100
  days after) with 4 MP's and others on the panel. The Conference prope
 r will commence at 10am prompt.\nTo provide updates on Regional busine
 ss issues facing small businesses and to facilitate excellent debate d
 uring Conference, experts will be attending including MP's, Leaders of
  both County Councils, both of our Counties Police & Crime Commissione
 rs, UKTI (Exporting is Great) and a Director from local Gatwick Airpor
 t.\nCOST: FREE to attend, but booking is essential please\nBOOKING: Pl
 ease CLICK HERE to register for your free place\nMAP\nAmple free park
 ing \n\nFor more information visit https://networkinginsurrey.co.uk/e
 vents/fsb-regional-conference-day-gatwick
DTSTART;TZID=Europe/London:20160930T093000
DTEND;TZID=Europe/London:20160930T153000
CATEGORIES:conference
LOCATION:The Academy, Holiday Inn Gatwick Airport RH6 0BA
WEBSITE:
URL:
CONTACT:
ORGANIZER;CN="Keith Grover, NiS Founder":https://networkinginsurrey.co
 .uk/profile/KeithGrover
ATTACH;FMTTYPE="image/jpeg":http://storage.ning.com/topology/rest/1.0/
 file/get/2591457512?profile=original
ATTENDEE;ROLE=REQ-PARTICIPANT;PARTSTAT=ACCEPTED;RSVP=TRUE;CN="Keith Gr
 over, NiS Founder":https://networkinginsurrey.co.uk/profile/KeithGrove
 r
END:VEVENT
END:VCALENDAR
