BEGIN:VCALENDAR
PRODID:NingEventWidget-v1
VERSION:2.0
METHOD:PUBLISH
BEGIN:VTIMEZONE
TZID:Europe/London
X-LIC-LOCATION:Europe/London
BEGIN:DAYLIGHT
TZOFFSETFROM:+0000
TZOFFSETTO:+0100
TZNAME:BST
DTSTART:19700329T010000
RRULE:FREQ=YEARLY;BYMONTH=3;BYDAY=-1SU
END:DAYLIGHT
BEGIN:STANDARD
TZOFFSETFROM:+0100
TZOFFSETTO:+0000
TZNAME:GMT
DTSTART:19701025T020000
RRULE:FREQ=YEARLY;BYMONTH=10;BYDAY=-1SU
END:STANDARD
END:VTIMEZONE
BEGIN:VEVENT
UID:4626108:Event:1510
DTSTAMP:20260425T214624Z
SUMMARY:FSB 'Question Time' Evening, Guildford
DESCRIPTION:‘QUESTION TIME' – Small Business BIG VOTE - Non-member
 s welcome!\n\nJust in case you haven't heard there's going to be a GEN
 ERAL ELECTION this year!!\nGuildford is a key constituency and will be
  closely fought as the last majority was 347 and both Anne Milton and 
 Sue Doughty are standing again. It is vital that Guildford elects the 
 right person to be its MP. Your local branch of the FSB have organised
  a Hustings Meeting where you'll have the opportunity to question the 
 candidates who could shape the future of Guildford and the country!!\n
 The panel, chaired by FSB Guildford Chairman Matthew Farrant, will con
 sist of (l to r)\n\nAnne Milton - Conservative PPC\nSue Doughty - Libe
 ral Democrats PPC\nTim Shand - Labour PPC\nIf you'd like to put a ques
 tion to the panel please complete the booking form. Questions will be 
 taken from the floor time permitting. The cost for the evening is just
  £5.00 for members and non membersand includes tea/coffee & cake.\nWi
 th such a small majority the Businesses in Guildford have the power to
  directly affect who is elected. Please turn up and have your say and 
 encourage your colleagues and friends to attend - non-members are welc
 ome!\n\n• This will give you an opportunity to hear what they all ha
 ve to say about business matters.\n• It's important that whoever is 
 elected understands the issues faced by businesses in Guildford and is
  committed to supporting their needs and challenges.\n• But more imp
 ortantly is gives you an opportunity to let them know what is importan
 t to you and your business.\nSo, make a note in your diary, bring alon
 g a business colleague as this is also a great opportunity to ‘netwo
 rk' and get answers to your questions. Places are limited – book now
  and don't forget to include your question.\nCOST: £5.00 which includ
 es light refreshments - non-members are welcome.\nBOOK HERE Please com
 plete the online Booking Form - we will call you to take payment and c
 onfirm your booking.\nVENUE\nMAP & DIRECTIONS(with downloadable PDFs)\
 n\nFor more information visit https://networkinginsurrey.co.uk/events/
 fsb-question-time-evening-1
DTSTART;TZID=Europe/London:20100413T190000
DTEND;TZID=Europe/London:20100413T213000
CATEGORIES:evening, debate, guildford, fsb
LOCATION:The Mandolay Hotel, Guildford GU1 2AE
WEBSITE:
URL:
CONTACT:01403 734257
ORGANIZER:Matthew Farrant
ATTACH;FMTTYPE="image/jpeg":http://storage.ning.com/topology/rest/1.0/
 file/get/2591378234?profile=original
END:VEVENT
END:VCALENDAR
