BEGIN:VCALENDAR
PRODID:NingEventWidget-v1
VERSION:2.0
METHOD:PUBLISH
BEGIN:VTIMEZONE
TZID:Europe/London
X-LIC-LOCATION:Europe/London
BEGIN:DAYLIGHT
TZOFFSETFROM:+0000
TZOFFSETTO:+0100
TZNAME:BST
DTSTART:19700329T010000
RRULE:FREQ=YEARLY;BYMONTH=3;BYDAY=-1SU
END:DAYLIGHT
BEGIN:STANDARD
TZOFFSETFROM:+0100
TZOFFSETTO:+0000
TZNAME:GMT
DTSTART:19701025T020000
RRULE:FREQ=YEARLY;BYMONTH=10;BYDAY=-1SU
END:STANDARD
END:VTIMEZONE
BEGIN:VEVENT
UID:4626108:Event:1669
DTSTAMP:20260425T185226Z
SUMMARY:FSB Policy Discussion Evening, Weybridge
DESCRIPTION:Discussion Forum Evening - All Welcome\n\nTo discuss Polic
 y matters affecting small businesses. All welcome...\nCOST: Free\nThis
  event has been posted by NiS Member Derek Williamson - please contact
  Derek on 07768 390330 for more information.\nMAP\nVENUE\n------------
 ------------------------------\nThe Federation of Small Businesses (FS
 B) is non-profit making and non-party political. It is the UK's larges
 t campaigning pressure group promoting and protecting the interests of
  the self-employed and owners of small firms. Formed in 1974, it now h
 as 215,000 members across 33 regions and 230 branches.\n\nFor more inf
 ormation visit https://networkinginsurrey.co.uk/events/fsb-policy-disc
 ussion-evening
DTSTART;TZID=Europe/London:20100407T183000
DTEND;TZID=Europe/London:20100407T210000
CATEGORIES:free, discussion, forum, fsb
LOCATION:Silvermere Golf Club Cobham / Weybridge KT11 1EF
WEBSITE:
URL:
CONTACT:
ORGANIZER:Derek Williamson
ATTACH;FMTTYPE="image/jpeg":http://storage.ning.com/topology/rest/1.0/
 file/get/2591378234?profile=original
ATTENDEE;ROLE=REQ-PARTICIPANT;PARTSTAT=ACCEPTED;RSVP=TRUE;CN="Derek Wi
 lliamson":https://networkinginsurrey.co.uk/profile/DerekWilliamson
ATTENDEE;ROLE=REQ-PARTICIPANT;PARTSTAT=TENTATIVE;RSVP=TRUE;CN="Keith G
 rover, NiS Founder":https://networkinginsurrey.co.uk/profile/KeithGrov
 er
END:VEVENT
END:VCALENDAR
