BEGIN:VCALENDAR
PRODID:NingEventWidget-v1
VERSION:2.0
METHOD:PUBLISH
BEGIN:VTIMEZONE
TZID:Europe/London
X-LIC-LOCATION:Europe/London
BEGIN:DAYLIGHT
TZOFFSETFROM:+0000
TZOFFSETTO:+0100
TZNAME:BST
DTSTART:19700329T010000
RRULE:FREQ=YEARLY;BYMONTH=3;BYDAY=-1SU
END:DAYLIGHT
BEGIN:STANDARD
TZOFFSETFROM:+0100
TZOFFSETTO:+0000
TZNAME:GMT
DTSTART:19701025T020000
RRULE:FREQ=YEARLY;BYMONTH=10;BYDAY=-1SU
END:STANDARD
END:VTIMEZONE
BEGIN:VEVENT
UID:4626108:Event:1781
DTSTAMP:20260425T190335Z
SUMMARY:FSB North Surrey Evening, Ewell
DESCRIPTION:'Effective Policing in Surrey'\n\n\nCome and join us to he
 ar what Richard Haycock, Elmbridge Neighbourhood Inspector has to say 
 about policing in your area at Horton Park Golf Club. There will be a 
 buffet and excellent opportunitites to network.\n\nCOST: £15 (includi
 ng buffet) Members and Non-members welcome\nMAP\nBOOK HERE Please comp
 lete the online Booking Form - we will call you to take payment and co
 nfirm your booking.\n\nFor more information visit https://networkingin
 surrey.co.uk/events/fsb-north-surrey-evening-ewell
DTSTART;TZID=Europe/London:20100422T190000
DTEND;TZID=Europe/London:20100422T210000
CATEGORIES:evening
LOCATION:Horton Park Golf Club KT19 8QG
WEBSITE:http://www.fsb.org.uk/surreyandwestsussex/aprilevents
URL:http://www.fsb.org.uk/surreyandwestsussex/aprilevents
CONTACT:07768 390330
ORGANIZER:Derek Williamson
ATTACH;FMTTYPE="image/jpeg":http://storage.ning.com/topology/rest/1.0/
 file/get/2591378234?profile=original
ATTENDEE;ROLE=REQ-PARTICIPANT;PARTSTAT=ACCEPTED;RSVP=TRUE;CN="Derek Wi
 lliamson":https://networkinginsurrey.co.uk/profile/DerekWilliamson
END:VEVENT
END:VCALENDAR
