BEGIN:VCALENDAR
PRODID:NingEventWidget-v1
VERSION:2.0
METHOD:PUBLISH
BEGIN:VTIMEZONE
TZID:Europe/London
X-LIC-LOCATION:Europe/London
BEGIN:DAYLIGHT
TZOFFSETFROM:+0000
TZOFFSETTO:+0100
TZNAME:BST
DTSTART:19700329T010000
RRULE:FREQ=YEARLY;BYMONTH=3;BYDAY=-1SU
END:DAYLIGHT
BEGIN:STANDARD
TZOFFSETFROM:+0100
TZOFFSETTO:+0000
TZNAME:GMT
DTSTART:19701025T020000
RRULE:FREQ=YEARLY;BYMONTH=10;BYDAY=-1SU
END:STANDARD
END:VTIMEZONE
BEGIN:VEVENT
UID:4626108:Event:4207
DTSTAMP:20260425T175231Z
SUMMARY:FSB Kickstart Reboot 2010 Evening, Guildford
DESCRIPTION:KICK START 2010\n\nFollowing on from the success of our KI
 CK START 2010 January event, we are pleased to announce that we will b
 e holding\nKICK START Reboot 2010\nMandolay Hotel 36-40 London Road, G
 uildford, Surrey, GU1 2AE\n\nFarnham, Guildford, Woking and North Surr
 ey branches of the FSB invite you to an evening of Inspirational Speak
 ers, Networking and Fun... Users of this Networking in Surrey site are
  all welcome, and we are expecting over 200 people to attend.\nWith ov
 er 100 businesses booked so far this promises to be a very good evenin
 g, with plenty of opportunities to meet new contacts, network with loc
 al businesses, enjoy inspirational speakers to help yourKICK START you
 r business after the Summer break. The price for the evening which inc
 ludes a buffet is just £10.00.\n\nEnjoy presentations by the FSB, Tow
 ergate and our keynote speaker, Shahid Azeem Chairman of Woking Footba
 ll Club and 2010 Business Personality of the Year. Networking sessions
 . Exhibition. The opportunity to stay longer and continue business dis
 cussions. Sandwiches, tea & coffee\nFSB members can invite other small
  busines colleagues to to attend -- more the better - this is not an F
 SB recruitment event -- it's all about business networking !!!\nCOST: 
 £10 including buffet\nBOOK HERE\nMAP:\nParking for 60 cars at the hot
 el and off-site parking nearby at the Civic Centre car park, with some
  free parking on adjacent roads after 6pm.\n\nFor more information vis
 it https://networkinginsurrey.co.uk/events/fsb-kickstart-reboot-2010
DTSTART;TZID=Europe/London:20100930T180000
DTEND;TZID=Europe/London:20100930T210000
CATEGORIES:evening, guildford, business_networking_surrey, fsb
LOCATION:Mandolay Hotel, Guidlford GU1 2AE
WEBSITE:http://www.fsb.org.uk/surreyandwestsussex/events/kickstart
URL:http://www.fsb.org.uk/surreyandwestsussex/events/kickstart
CONTACT:01403 734257
ORGANIZER:Paul Formstone: paul@formstone.co.uk
ATTACH;FMTTYPE="image/jpeg":http://storage.ning.com/topology/rest/1.0/
 file/get/2591374962?profile=original
ATTENDEE;ROLE=REQ-PARTICIPANT;PARTSTAT=ACCEPTED;RSVP=TRUE;CN="Keith Gr
 over, NiS Founder":https://networkinginsurrey.co.uk/profile/KeithGrove
 r
END:VEVENT
END:VCALENDAR
