BEGIN:VCALENDAR
PRODID:NingEventWidget-v1
VERSION:2.0
METHOD:PUBLISH
BEGIN:VTIMEZONE
TZID:Europe/London
X-LIC-LOCATION:Europe/London
BEGIN:DAYLIGHT
TZOFFSETFROM:+0000
TZOFFSETTO:+0100
TZNAME:BST
DTSTART:19700329T010000
RRULE:FREQ=YEARLY;BYMONTH=3;BYDAY=-1SU
END:DAYLIGHT
BEGIN:STANDARD
TZOFFSETFROM:+0100
TZOFFSETTO:+0000
TZNAME:GMT
DTSTART:19701025T020000
RRULE:FREQ=YEARLY;BYMONTH=10;BYDAY=-1SU
END:STANDARD
END:VTIMEZONE
BEGIN:VEVENT
UID:4626108:Event:2837
DTSTAMP:20260425T185906Z
SUMMARY:Frimley Hall Hotel, Camberley
DESCRIPTION:Helps you understand how everyone speaks and communicates 
 slightly differently and how we use this to our advantage.\n\nUndersta
 nd Body Language and Building Rapport.\n\nConvincer Strategies are all
  about how people make decisions (or not) and how we can help them out
  with that.\n\nVENUE\n\nFor more information visit https://networkingi
 nsurrey.co.uk/events/frimley-hall-hotel-camberley
DTSTART;TZID=Europe/London:20100703T000000
DTEND;TZID=Europe/London:20100703T235900
CATEGORIES:workshop, training
LOCATION:Frimley Hall Hotel
WEBSITE:
URL:
CONTACT:07973 402037
ORGANIZER:Tina Williams
ATTACH;FMTTYPE="image/jpeg":http://storage.ning.com/topology/rest/1.0/
 file/get/2591377754?profile=original
ATTENDEE;ROLE=REQ-PARTICIPANT;PARTSTAT=ACCEPTED;RSVP=TRUE;CN="Keith Gr
 over, NiS Founder":https://networkinginsurrey.co.uk/profile/KeithGrove
 r
END:VEVENT
END:VCALENDAR
