BEGIN:VCALENDAR
PRODID:NingEventWidget-v1
VERSION:2.0
METHOD:PUBLISH
BEGIN:VTIMEZONE
TZID:Europe/London
X-LIC-LOCATION:Europe/London
BEGIN:DAYLIGHT
TZOFFSETFROM:+0000
TZOFFSETTO:+0100
TZNAME:BST
DTSTART:19700329T010000
RRULE:FREQ=YEARLY;BYMONTH=3;BYDAY=-1SU
END:DAYLIGHT
BEGIN:STANDARD
TZOFFSETFROM:+0100
TZOFFSETTO:+0000
TZNAME:GMT
DTSTART:19701025T020000
RRULE:FREQ=YEARLY;BYMONTH=10;BYDAY=-1SU
END:STANDARD
END:VTIMEZONE
BEGIN:VEVENT
UID:4626108:Event:2879
DTSTAMP:20260425T132706Z
SUMMARY:Fresh Air Fridays - Free Morning Netwalk, Guildford
DESCRIPTION:Fresh Air Fridays - Free Morning Netwalk\n\nBreathe fresh 
 air into your networking with these free, informal and inspirational n
 etworking events - in the fresh air! Each Netwalk last around 1.5 - 2 
 hours with the opportunity to stay for coffee and further networking a
 fter the walk.\nThese events are informal, energising and inspirationa
 l, and the perfect way to connect with like-minded business owners in 
 a relaxed and beautiful environment.\nStart: 10.50 for a 11am start, w
 alk lasts about 1.5 hours\nPlace: Newlands Corner Car park - picnic ta
 bles outside cafe\nBring: Business cards/flyers\nWear: Appropriate clo
 thes for walking and weather (may be a little muddy if it's been raini
 ng!)\nOptional - cash for refreshments, water\nCOST: FREE - REGISTER H
 ERE - no charge\nMORE INFO (or running late on the day!) Contact: Jenn
 y 07950 956 861 or Tom 07974 407711\nWe start each meeting with a very
  brief round of introductions and a business card shuffle so make sure
  you bring plenty with you. The format is informal and friendly and a 
 great relaxed way to network if you're new to it. We look forward to w
 elcoming you!\n------------------------------------------\nNetwalks in
  the Surrey Hills are the brainchild of NiS Members Tom Evans and Jenn
 y Littlejohn and have long been enjoyed by Ecademy members.\nHere's wh
 at some our netwalkers said :\n\"Absolutely fab, probably the best net
 working I have been to all week. Having given up the gym, I wanted to 
 get into the hang of going for walks, it was perfect. Felt a bit poope
 d afterwards but enjoying walking more and more.... Also, resolved a b
 usiness problem! What more could you ask for!\"\n\"Great walk, very go
 od networking, loads of ideas, and super company. You've got me hooked
 . thank you everyone who came and thank you Jenny for organizing it.\"
 \n\nFor more information visit https://networkinginsurrey.co.uk/events
 /fresh-air-fridays-free-6
DTSTART;TZID=Europe/London:20100625T110000
DTEND;TZID=Europe/London:20100625T130000
CATEGORIES:free, netwalk, morning, guildford, business_networking
LOCATION:Newlands Corner Car Park
WEBSITE:http://www.meetup.com/BigStrides4Business/calendar/13505543/?f
 rom=list&offset=0
URL:http://www.meetup.com/BigStrides4Business/calendar/13505543/?from=
 list&offset=0
CONTACT:01932 221712
ORGANIZER:Jenny Littlejohn
ATTACH;FMTTYPE="image/jpeg":http://storage.ning.com/topology/rest/1.0/
 file/get/2591376703?profile=original
ATTENDEE;ROLE=REQ-PARTICIPANT;PARTSTAT=TENTATIVE;RSVP=TRUE;CN="Keith G
 rover, NiS Founder":https://networkinginsurrey.co.uk/profile/KeithGrov
 er
END:VEVENT
END:VCALENDAR
