BEGIN:VCALENDAR
PRODID:NingEventWidget-v1
VERSION:2.0
METHOD:PUBLISH
BEGIN:VTIMEZONE
TZID:Europe/London
X-LIC-LOCATION:Europe/London
BEGIN:DAYLIGHT
TZOFFSETFROM:+0000
TZOFFSETTO:+0100
TZNAME:BST
DTSTART:19700329T010000
RRULE:FREQ=YEARLY;BYMONTH=3;BYDAY=-1SU
END:DAYLIGHT
BEGIN:STANDARD
TZOFFSETFROM:+0100
TZOFFSETTO:+0000
TZNAME:GMT
DTSTART:19701025T020000
RRULE:FREQ=YEARLY;BYMONTH=10;BYDAY=-1SU
END:STANDARD
END:VTIMEZONE
BEGIN:VEVENT
UID:4626108:Event:1488
DTSTAMP:20260425T231513Z
SUMMARY:Fresh Air Fridays - FREE Morning Netwalk, Bushy Park, Hampton
DESCRIPTION:Fresh Air Friday - FREE Netwalk\n\nBreathe fresh air into 
 your networking with these free, informal and inspirational networking
  events - in the fresh air!\nEach Netwalk lasts around 1.5 - 2 hours w
 ith the opportunity to stay for coffee and further networking after th
 e walk. These events are informal, energising and inspirational, and t
 he perfect way to connect with like-minded business owners in a relaxe
 d and beautiful environment. We meet at the Pheasantry Cafe (off Chest
 nut Avenue) in Bushy Park at 9.50 for a 10-am start. We start each mee
 ting with a very brief round of introductions and a business card shuf
 fle so make sure you bring plenty with you!\nDress code : Informal and
  comfortable for walking... Look forward to welcoming you!\nWarmest re
 gards\nJenny\nCOST: FREE REGISTER HERE - no charge\n\nMAP (pdf)\nINTER
 ACTIVE PARK PLAN\nParking and disabled parking available.\n-----------
 --\nNetwalks in Surrey are the brainchild of NiS Members Tom Evans and
  Jenny Littlejohn, and have long been enjoyed by Ecademy members.\n\n\
 nFor more information visit https://networkinginsurrey.co.uk/events/fr
 esh-air-fridays-free-2
DTSTART;TZID=Europe/London:20100416T100000
DTEND;TZID=Europe/London:20100416T120000
CATEGORIES:free, netwalk, morning, hampton
LOCATION:The Pheasantry Cafe, Bushy Park, Hampton
WEBSITE:http://www.meetup.com/BigStrides4Business/calendar/12826396/?s
 uccess=mailing_list_sent
URL:http://www.meetup.com/BigStrides4Business/calendar/12826396/?succe
 ss=mailing_list_sent
CONTACT:01932 221712
ORGANIZER:Jenny Littlejohn
ATTACH;FMTTYPE="image/jpeg":http://storage.ning.com/topology/rest/1.0/
 file/get/2591376703?profile=original
END:VEVENT
END:VCALENDAR
