BEGIN:VCALENDAR
PRODID:NingEventWidget-v1
VERSION:2.0
METHOD:PUBLISH
BEGIN:VTIMEZONE
TZID:Europe/London
X-LIC-LOCATION:Europe/London
BEGIN:DAYLIGHT
TZOFFSETFROM:+0000
TZOFFSETTO:+0100
TZNAME:BST
DTSTART:19700329T010000
RRULE:FREQ=YEARLY;BYMONTH=3;BYDAY=-1SU
END:DAYLIGHT
BEGIN:STANDARD
TZOFFSETFROM:+0100
TZOFFSETTO:+0000
TZNAME:GMT
DTSTART:19701025T020000
RRULE:FREQ=YEARLY;BYMONTH=10;BYDAY=-1SU
END:STANDARD
END:VTIMEZONE
BEGIN:VEVENT
UID:4626108:Event:352787
DTSTAMP:20260422T101852Z
SUMMARY:ZOOM FREE: Half-hour Afternoon Zoom Training with Keith
DESCRIPTION:Free Learn2Love Zoom Session!\r\n\r\nA quick half-hour run
 -through of the Zoom platform for attendees and Meeting Hosts to find 
 out what the butons are for... and how to make the most of the platfor
 m.\r\n\"An April 1 memo by Zoom chief executive Eric Yuan revealed th
 at its daily meeting participants rose from 10 million at the end of D
 ecember, to 200 million in March.\"\r\nZoom is set to become an essen
 tial business platform long after current restrictions are lifted, per
 fect for team meetings, networking and training.\r\nThis class uses Zo
 om and may be recorded & posted on social media to be available for ot
 hers to view it. By joining this event and participating you agree to 
 this. \r\nPlease email keith@networkinginsurrey.co.uk \r\nCOST: FRE
 E\r\nBOOKING: Please CLICK HERE to book your free place\r\n\n\nFor 
 more information visit https://networkinginsurrey.co.uk/events/free-zo
 om-training-with-keith
DTSTART;TZID=Europe/London:20200422T140000
DTEND;TZID=Europe/London:20200422T143000
CATEGORIES:training, online, networking
LOCATION:Online only
WEBSITE:
URL:
CONTACT:
ORGANIZER;CN="Keith Grover, NiS Founder":https://networkinginsurrey.co
 .uk/profile/KeithGrover
ATTACH;FMTTYPE="image/jpeg":https://storage.ning.com/topology/rest/1.0
 /file/get/4469566256?profile=original
ATTENDEE;ROLE=REQ-PARTICIPANT;PARTSTAT=ACCEPTED;RSVP=TRUE;CN="Keith Gr
 over, NiS Founder":https://networkinginsurrey.co.uk/profile/KeithGrove
 r
END:VEVENT
END:VCALENDAR
