BEGIN:VCALENDAR
PRODID:NingEventWidget-v1
VERSION:2.0
METHOD:PUBLISH
BEGIN:VTIMEZONE
TZID:Europe/London
X-LIC-LOCATION:Europe/London
BEGIN:DAYLIGHT
TZOFFSETFROM:+0000
TZOFFSETTO:+0100
TZNAME:BST
DTSTART:19700329T010000
RRULE:FREQ=YEARLY;BYMONTH=3;BYDAY=-1SU
END:DAYLIGHT
BEGIN:STANDARD
TZOFFSETFROM:+0100
TZOFFSETTO:+0000
TZNAME:GMT
DTSTART:19701025T020000
RRULE:FREQ=YEARLY;BYMONTH=10;BYDAY=-1SU
END:STANDARD
END:VTIMEZONE
BEGIN:VEVENT
UID:4626108:Event:5497
DTSTAMP:20260423T005452Z
SUMMARY:FREE Xmas Business Biscotti Morning, Wentworth Golf Club - fol
 lowed by optional Lunch
DESCRIPTION:Business Biscotti 'Merry Christmas' Morning at Wentworth G
 olf Club\n\nNetworking with Business Biscotti is different. We want pe
 ople to enter into meaningful business relationships and gain business
 , but also to put something back by participating and contributing to 
 the Community, for the benefit of all of us. Business Biscotti is diff
 erent from other networking organisations – as its philosophy is to 
 SUPPORT neighbourhood marketing principles; ie to think globally but t
 o do business locally.\nBOOKING - No need to book - just show up!\nCOS
 T FREE to attend - just pay £2.50 for unlimited tea and coffee\nMAP\n
 Parking - drive past the clubhouse entrance to the car parks.\nWentwor
 the business Biscotti is organised by NiS Member Tina Williams and Mar
 tin Horswood. This lovely venue adds a touch of class to the networkin
 g scene! The Club Lounge is an elegant & adaptable setting for special
  events & is the preferred backdrop for pre-dinner drinks.\nThe Wentwo
 rth Christmas Business Biscotti Lunch will FOLLOW the December Biscott
 i meeting (13th December) at The Grill Restaurant, Wentworth Club. You
  are cordially invited to join us. They will be laying on the normal C
 hristmassy stuff, I guess and hope. I believe their Christmas Table d'
 Hote menu will be only £17 for two courses and £23 for 3 courses. Si
 nce we are having to book a table (Christmas being Christmas etc) plea
 se let us know if you would like to come and we will put you on our li
 st! First come, first served as it were - email Tina Williams or Marti
 n Horswood.\n----------------------------\nBusiness Biscotti has grown
  into a community of business people who now provide support, guidance
 , help and trading opportunities for one another. We have many groups,
  more are starting all the time, and an Online Community - www.busines
 sbiscotti.co.uk\n\nFor more information visit https://networkinginsurr
 ey.co.uk/events/free-xmas-business-biscotti
DTSTART;TZID=Europe/London:20101213T100000
DTEND;TZID=Europe/London:20101213T120000
CATEGORIES:biscotti, business_networking_surrey, free
LOCATION:Wentworth Club GU25 4LS
WEBSITE:http://www.wentworthclub.com/
URL:http://www.wentworthclub.com/
CONTACT:
ORGANIZER:Tina Williams & Martin Horswood
ATTACH;FMTTYPE="image/jpeg":http://storage.ning.com/topology/rest/1.0/
 file/get/2591397645?profile=original
ATTENDEE;ROLE=REQ-PARTICIPANT;PARTSTAT=ACCEPTED;RSVP=TRUE;CN="Shân Hu
 ghes":https://networkinginsurrey.co.uk/profile/ShanHughes
ATTENDEE;ROLE=REQ-PARTICIPANT;PARTSTAT=ACCEPTED;RSVP=TRUE;CN="Dean Fau
 lkner":https://networkinginsurrey.co.uk/profile/DeanFaulkner
ATTENDEE;ROLE=REQ-PARTICIPANT;PARTSTAT=ACCEPTED;RSVP=TRUE;CN="Tessa Ho
 od":https://networkinginsurrey.co.uk/profile/TessaHood
ATTENDEE;ROLE=REQ-PARTICIPANT;PARTSTAT=ACCEPTED;RSVP=TRUE;CN="Sasha Wa
 rr":https://networkinginsurrey.co.uk/profile/SashaWarr
ATTENDEE;ROLE=REQ-PARTICIPANT;PARTSTAT=ACCEPTED;RSVP=TRUE;CN="Tina Wil
 liams":https://networkinginsurrey.co.uk/profile/TinaWilliams
ATTENDEE;ROLE=REQ-PARTICIPANT;PARTSTAT=ACCEPTED;RSVP=TRUE;CN="Keith Gr
 over, NiS Founder":https://networkinginsurrey.co.uk/profile/KeithGrove
 r
END:VEVENT
END:VCALENDAR
