BEGIN:VCALENDAR
PRODID:NingEventWidget-v1
VERSION:2.0
METHOD:PUBLISH
BEGIN:VTIMEZONE
TZID:Europe/London
X-LIC-LOCATION:Europe/London
BEGIN:DAYLIGHT
TZOFFSETFROM:+0000
TZOFFSETTO:+0100
TZNAME:BST
DTSTART:19700329T010000
RRULE:FREQ=YEARLY;BYMONTH=3;BYDAY=-1SU
END:DAYLIGHT
BEGIN:STANDARD
TZOFFSETFROM:+0100
TZOFFSETTO:+0000
TZNAME:GMT
DTSTART:19701025T020000
RRULE:FREQ=YEARLY;BYMONTH=10;BYDAY=-1SU
END:STANDARD
END:VTIMEZONE
BEGIN:VEVENT
UID:4626108:Event:3632
DTSTAMP:20260425T200313Z
SUMMARY:FREE Woking Means Business Exhibition
DESCRIPTION:Woking Means Business\n\nDon't miss this year's Woking Mea
 ns Business on 7th October - make a date in your diary now to attend.\
 nThe event will be stacked with new ideas, products and services - cra
 mmed with inspirational speakers and expert consultants, keen to help 
 and advise the hundreds of like-minded business people eager to meet, 
 learn and grow their businesses. If you want to do business in and aro
 und Woking, this is the place to be!\nEXHIBIT: You can exhibit from as
  little as £240.00+VAT - see available stands and pricing on the floo
 r plan here (over 60% sold as at 1 August - so please don't delay...)\
 n\nCOST: You can visit the exhibition, attend the seminars and the 1-2
 -1 clinics for FREE.\nBOOK HERE: Register to attend FREE here - and bo
 ok your place at your chosen FREE seminars\nMAP\nThe nearest car park 
 is The Victoria Way Car Park, accessed next to The Holiday Inn in Vict
 oria Way. The venue can then be reached at the far end of the car park
  by crossing Church Street East or via level 4 by the foot bridge dire
 ct into the reception area of the exhibition. The HG Wells Conference 
 & Events Centre is just a few minutes walk from Woking Station.\n-----
 ----------------------------------\nThis event is organised by NiS Mem
 ber James Webster of The Webster Partnership\n\nFor more information v
 isit https://networkinginsurrey.co.uk/events/free-woking-means-busines
 s
DTSTART;TZID=Europe/London:20101007T093000
DTEND;TZID=Europe/London:20101007T170000
CATEGORIES:exhibition, business_networking_surrey, seminars
LOCATION:H G Wells Conference and Events Centre GU21 6HJ
WEBSITE:http://www.wokingmeansbusiness.com/
URL:http://www.wokingmeansbusiness.com/
CONTACT:0118-973-1976 or James Webster 07824-807264
ORGANIZER:The Webster Partnership
ATTACH;FMTTYPE="image/jpeg":http://storage.ning.com/topology/rest/1.0/
 file/get/2591382439?profile=original
ATTENDEE;ROLE=REQ-PARTICIPANT;PARTSTAT=ACCEPTED;RSVP=TRUE;CN="Annie He
 ggie":https://networkinginsurrey.co.uk/profile/Annie
ATTENDEE;ROLE=REQ-PARTICIPANT;PARTSTAT=ACCEPTED;RSVP=TRUE;CN="Dean Fau
 lkner":https://networkinginsurrey.co.uk/profile/DeanFaulkner
ATTENDEE;ROLE=REQ-PARTICIPANT;PARTSTAT=ACCEPTED;RSVP=TRUE;CN="Keith Gr
 over, NiS Founder":https://networkinginsurrey.co.uk/profile/KeithGrove
 r
END:VEVENT
END:VCALENDAR
