BEGIN:VCALENDAR
PRODID:NingEventWidget-v1
VERSION:2.0
METHOD:PUBLISH
BEGIN:VTIMEZONE
TZID:Europe/London
X-LIC-LOCATION:Europe/London
BEGIN:DAYLIGHT
TZOFFSETFROM:+0000
TZOFFSETTO:+0100
TZNAME:BST
DTSTART:19700329T010000
RRULE:FREQ=YEARLY;BYMONTH=3;BYDAY=-1SU
END:DAYLIGHT
BEGIN:STANDARD
TZOFFSETFROM:+0100
TZOFFSETTO:+0000
TZNAME:GMT
DTSTART:19701025T020000
RRULE:FREQ=YEARLY;BYMONTH=10;BYDAY=-1SU
END:STANDARD
END:VTIMEZONE
BEGIN:VEVENT
UID:4626108:Event:35234
DTSTAMP:20260421T192149Z
SUMMARY:FREE Woking Means Business Exhibition
DESCRIPTION:Woking Means Business\n\nDon't miss this year's Woking Mea
 ns Business on 23 November - make a date in your diary now to attend.\
 nThe event will be stacked with new ideas, products and services - cra
 mmed with inspirational speakers and expert consultants, keen to help 
 and advise the hundreds of like-minded business people eager to meet, 
 learn and grow their businesses. If you want to do business in and aro
 und Woking, this is the place to be!\n\nCOST: You can visit the exhibi
 tion, attend the seminars and the 1-2-1 clinics for FREE.\nBOOK HERE: 
 Register to attend FREE here - and book your place at your chosen FREE
  seminars\nEXHIBIT: You can exhibit from as little as £340.00+VAT - s
 ee available stands and pricing on the floor plan here\nMAP\nThe neare
 st car park is The Victoria Way Car Park, accessed next to The Holiday
  Inn in Victoria Way. The venue can then be reached at the far end of 
 the car park by crossing Church Street East or via level 4 by the foot
  bridge direct into the reception area of the exhibition. The HG Wells
  Conference & Events Centre is just a few minutes walk from Woking Sta
 tion.\n---------------------------------------\nThis event is organise
 d by the Woking Chamber in association with NiS Member James Webster o
 f The Webster Partnership\n\nFor more information visit https://networ
 kinginsurrey.co.uk/events/free-woking-means-business-exhibition
DTSTART;TZID=Europe/London:20111123T093000
DTEND;TZID=Europe/London:20111123T163000
CATEGORIES:exhibition, business_networking_surrey, seminars, woking
LOCATION:H G Wells Conference and Events Centre GU21 6HJ
WEBSITE:http://www.wokingmeansbusiness.com/
URL:http://www.wokingmeansbusiness.com/
CONTACT:0118-973-1976 or James Webster 07824-807264
ORGANIZER:Woking Chamber
ATTACH;FMTTYPE="image/jpeg":http://storage.ning.com/topology/rest/1.0/
 file/get/2591382439?profile=original
ATTENDEE;ROLE=REQ-PARTICIPANT;PARTSTAT=ACCEPTED;RSVP=TRUE;CN="Maurice 
 Watts":https://networkinginsurrey.co.uk/profile/MauriceWatts
ATTENDEE;ROLE=REQ-PARTICIPANT;PARTSTAT=ACCEPTED;RSVP=TRUE;CN="Keith Gr
 over, NiS Founder":https://networkinginsurrey.co.uk/profile/KeithGrove
 r
ATTENDEE;ROLE=REQ-PARTICIPANT;PARTSTAT=ACCEPTED;RSVP=TRUE;CN="David Sp
 encer":https://networkinginsurrey.co.uk/profile/DavidSpencer
END:VEVENT
END:VCALENDAR
