BEGIN:VCALENDAR
PRODID:NingEventWidget-v1
VERSION:2.0
METHOD:PUBLISH
BEGIN:VTIMEZONE
TZID:Europe/London
X-LIC-LOCATION:Europe/London
BEGIN:DAYLIGHT
TZOFFSETFROM:+0000
TZOFFSETTO:+0100
TZNAME:BST
DTSTART:19700329T010000
RRULE:FREQ=YEARLY;BYMONTH=3;BYDAY=-1SU
END:DAYLIGHT
BEGIN:STANDARD
TZOFFSETFROM:+0100
TZOFFSETTO:+0000
TZNAME:GMT
DTSTART:19701025T020000
RRULE:FREQ=YEARLY;BYMONTH=10;BYDAY=-1SU
END:STANDARD
END:VTIMEZONE
BEGIN:VEVENT
UID:4626108:Event:537867
DTSTAMP:20260421T192458Z
SUMMARY:FREE Woking and Sam Beare Hospice Business Breakfast LIVE! Wok
 ing
DESCRIPTION:FREE Networking Breakfast at Woking and Sam Beare Hospice 
 in Woking\r\n\r\nPlease join us for our next Hospice Business Breakfas
 t taking place on Friday 21 April from 8am – 9.30am in the Bradbury 
 Wellbeing Centre at Woking Hospice.\r\nOur Business Breakfasts are kin
 dly sponsored by Henchards, specialists in business exit planning, ena
 bling us to bring our business community together throughout the year.
 \r\n\r\n As always, we’ll be offering refreshments and plenty of op
 portunities for informal networking, along with a welcome, introductio
 ns, a Q&A on a business topic and an update from the Hospice.\r\nIt wi
 ll be extra special to bring together our fantastic local business com
 munity at our Hospice on this occasion. Our Bradbury Wellbeing Centre 
 is a vital part of our Hospice care, providing a welcoming and friendl
 y space for our patients, carers and bereaved carers to access a range
  of treatments and therapies, as well as 121 support and group social 
 activities.\r\nOur Business Breakfasts are free to attend and always w
 ell attended, so please book your place now by contacting Lucy McNally
  on business@wsbh.org.uk or 01483 881761.\r\nIt will be wonderful to w
 elcome you to the Hospice on Friday 21 April.\r\nCOST: FREE (but booki
 ng is essential for catering purposes please)\r\nBOOKING: Please email
  Lucy McNally business@wsbh.org.uk or call 01483 881761 to book your
  free place\r\nMAP\n\nFor more information visit https://networkingins
 urrey.co.uk/events/free-woking-amp-sam-beare-hospice-business-breakfas
 t-live-at-our
DTSTART;TZID=Europe/London:20230421T080000
DTEND;TZID=Europe/London:20230421T093000
CATEGORIES:business, networking, breakfast, woking
LOCATION:Woking Hospice, Goldsworth Park GU21 3LG
WEBSITE:https://wsbh.org.uk/event/breakfast-business-meeting-venue-tbc
 /
URL:https://wsbh.org.uk/event/breakfast-business-meeting-venue-tbc/
CONTACT:01483881761
ORGANIZER;CN="Lucy McNally":https://networkinginsurrey.co.uk/profile/L
 ucyMcNally
ATTACH;FMTTYPE="image/jpeg":https://storage.ning.com/topology/rest/1.0
 /file/get/11027035270?profile=original
ATTENDEE;ROLE=REQ-PARTICIPANT;PARTSTAT=ACCEPTED;RSVP=TRUE;CN="Lucy McN
 ally":https://networkinginsurrey.co.uk/profile/LucyMcNally
END:VEVENT
END:VCALENDAR
