BEGIN:VCALENDAR
PRODID:NingEventWidget-v1
VERSION:2.0
METHOD:PUBLISH
BEGIN:VTIMEZONE
TZID:Europe/London
X-LIC-LOCATION:Europe/London
BEGIN:DAYLIGHT
TZOFFSETFROM:+0000
TZOFFSETTO:+0100
TZNAME:BST
DTSTART:19700329T010000
RRULE:FREQ=YEARLY;BYMONTH=3;BYDAY=-1SU
END:DAYLIGHT
BEGIN:STANDARD
TZOFFSETFROM:+0100
TZOFFSETTO:+0000
TZNAME:GMT
DTSTART:19701025T020000
RRULE:FREQ=YEARLY;BYMONTH=10;BYDAY=-1SU
END:STANDARD
END:VTIMEZONE
BEGIN:VEVENT
UID:4626108:Event:102030
DTSTAMP:20260424T092143Z
SUMMARY:FREE Wheatsheaf Networking Breakfast, Farnham
DESCRIPTION:FREE Breakfast Networking at The Wheatsheaf\r\n\r\nThe Far
 nham networking events held at The Wheatsheaf have been key in introdu
 cing, and formulating great bonds between local businesses and supplie
 rs.\r\nThe partnership between Branston Adams Tax Accountants, The Whe
 atsheaf and Phyllis Tuckwell Hospice Care ensures a diverse (and busy)
  turn out each and every month, whilst the fascinating guest speakers 
 range from gin makers and chocolatiers to inspirational business peopl
 e, social media specialists and forward-thinking entrepreneurs.\r\nHel
 d on the first Wednesday of every month, these local Farnham networkin
 g events are free to attend, with a suggested donation to The Phyllis
  Tuckwell Hospice \r\nCOST: FREE including breakfast - donations in
 vited for The Phyllis Tuckwell Hospice (suggested £5) on your arrival
 \r\nBOOKING: To register to attend, please email Amber Philpott  amb
 er@taxaccountancy.com\r\nMAP\n\nFor more information visit https://net
 workinginsurrey.co.uk/events/free-wheatsheaf-networking-breakfast-farn
 ham
DTSTART;TZID=Europe/London:20181205T083000
DTEND;TZID=Europe/London:20181205T103000
CATEGORIES:networking, event
LOCATION:The Wheatsheaf, Farnham
WEBSITE:
URL:
CONTACT:
ORGANIZER:Branston Adams
ATTACH;FMTTYPE="image/jpeg":https://storage.ning.com/topology/rest/1.0
 /file/get/163629985?profile=original
ATTENDEE;ROLE=REQ-PARTICIPANT;PARTSTAT=ACCEPTED;RSVP=TRUE;CN="Keith Gr
 over, NiS Founder":https://networkinginsurrey.co.uk/profile/KeithGrove
 r
END:VEVENT
END:VCALENDAR
