BEGIN:VCALENDAR
PRODID:NingEventWidget-v1
VERSION:2.0
METHOD:PUBLISH
BEGIN:VTIMEZONE
TZID:Europe/London
X-LIC-LOCATION:Europe/London
BEGIN:DAYLIGHT
TZOFFSETFROM:+0000
TZOFFSETTO:+0100
TZNAME:BST
DTSTART:19700329T010000
RRULE:FREQ=YEARLY;BYMONTH=3;BYDAY=-1SU
END:DAYLIGHT
BEGIN:STANDARD
TZOFFSETFROM:+0100
TZOFFSETTO:+0000
TZNAME:GMT
DTSTART:19701025T020000
RRULE:FREQ=YEARLY;BYMONTH=10;BYDAY=-1SU
END:STANDARD
END:VTIMEZONE
BEGIN:VEVENT
UID:4626108:Event:520304
DTSTAMP:20260420T230316Z
SUMMARY:FREE Afternoon Webinar with International Author Michael Heppe
 ll
DESCRIPTION:FREE Afternoon Webinar With International Author Michael H
 eppell\r\n\r\nWe are thrilled to be able to bring this man to your hom
 es.....!\r\nCome along Wednesday3rd March for an hour to listen to Int
 ernational Best Selling Author Michael Heppell.\r\nMichael is the Inte
 rnational Best Selling author of How To Be Brilliant, 5 Star Service, 
 Brilliant Life, Flip It, How To Save An Hour Every Day and The Edge.\r
 \nMichael is one of the UK’s leading experts on Customer Service and
  has been described as ‘one of the top 3 professional speakers in th
 e world’.\r\nHe works with individuals and organisations who have a 
 desire to be brilliant.\r\nYou won't get a chance to see someone like 
 this very often!\r\nCOST: FREE\r\nBOOKING: Please CLICK HERE to book y
 our FREE \r\n\n\nFor more information visit https://networkinginsurre
 y.co.uk/events/free-webinar-with-international-author-michael-heppell
DTSTART;TZID=Europe/London:20210303T160000
DTEND;TZID=Europe/London:20210303T170000
CATEGORIES:online, webinar
LOCATION:On-Line
WEBSITE:
URL:
CONTACT:+447525738758
ORGANIZER;CN="Sally Castro Gouveia":https://networkinginsurrey.co.uk/p
 rofile/SallyCastroGouveia
ATTACH;FMTTYPE="image/jpeg":https://storage.ning.com/topology/rest/1.0
 /file/get/8597967100?profile=original
ATTENDEE;ROLE=REQ-PARTICIPANT;PARTSTAT=ACCEPTED;RSVP=TRUE;CN="Sally Ca
 stro Gouveia":https://networkinginsurrey.co.uk/profile/SallyCastroGouv
 eia
END:VEVENT
END:VCALENDAR
