BEGIN:VCALENDAR
PRODID:NingEventWidget-v1
VERSION:2.0
METHOD:PUBLISH
BEGIN:VTIMEZONE
TZID:Europe/London
X-LIC-LOCATION:Europe/London
BEGIN:DAYLIGHT
TZOFFSETFROM:+0000
TZOFFSETTO:+0100
TZNAME:BST
DTSTART:19700329T010000
RRULE:FREQ=YEARLY;BYMONTH=3;BYDAY=-1SU
END:DAYLIGHT
BEGIN:STANDARD
TZOFFSETFROM:+0100
TZOFFSETTO:+0000
TZNAME:GMT
DTSTART:19701025T020000
RRULE:FREQ=YEARLY;BYMONTH=10;BYDAY=-1SU
END:STANDARD
END:VTIMEZONE
BEGIN:VEVENT
UID:4626108:Event:350667
DTSTAMP:20260422T172126Z
SUMMARY:FREE #SurreyBUZZ Twitter Hour Morning
DESCRIPTION:Surrey BUZZ Twitter Hour\n\n#Join us online Thursday 23rd
  April, between 10.00 AM to 11.00 AM for our #GuildfordBuzz Twitter 
 Hour. \nNew to Twitter Hour? Email your host Jane Tyson, for a free 3
 -minute recorded training to help get you up and running. \n\n\nFor m
 ore information visit https://networkinginsurrey.co.uk/events/free-sur
 reybuzz-twitter-hour-morning
DTSTART;TZID=Europe/London:20200423T100000
DTEND;TZID=Europe/London:20200423T110000
CATEGORIES:surrey, buzz, twitter, hour
LOCATION:Surrey
WEBSITE:https://twitter.com/BizBuzzSurrey
URL:https://twitter.com/BizBuzzSurrey
CONTACT:07768 392686
ORGANIZER;CN="Jane Tyson":https://networkinginsurrey.co.uk/profile/Jan
 eTyson
ATTACH;FMTTYPE="image/jpeg":https://storage.ning.com/topology/rest/1.0
 /file/get/4373282485?profile=original
ATTENDEE;ROLE=REQ-PARTICIPANT;PARTSTAT=ACCEPTED;RSVP=TRUE;CN="Jane Tys
 on":https://networkinginsurrey.co.uk/profile/JaneTyson
END:VEVENT
END:VCALENDAR
