BEGIN:VCALENDAR
PRODID:NingEventWidget-v1
VERSION:2.0
METHOD:PUBLISH
BEGIN:VTIMEZONE
TZID:Europe/London
X-LIC-LOCATION:Europe/London
BEGIN:DAYLIGHT
TZOFFSETFROM:+0000
TZOFFSETTO:+0100
TZNAME:BST
DTSTART:19700329T010000
RRULE:FREQ=YEARLY;BYMONTH=3;BYDAY=-1SU
END:DAYLIGHT
BEGIN:STANDARD
TZOFFSETFROM:+0100
TZOFFSETTO:+0000
TZNAME:GMT
DTSTART:19701025T020000
RRULE:FREQ=YEARLY;BYMONTH=10;BYDAY=-1SU
END:STANDARD
END:VTIMEZONE
BEGIN:VEVENT
UID:4626108:Event:4800
DTSTAMP:20260424T021601Z
SUMMARY:FREE Surrey Style: Business Showcase Evening, Dorking
DESCRIPTION:Networking in Style at the Burford Bridge, Dorking\n\nAn i
 nformal FREE networking evening of conversations and positive connecti
 ons. Come and join us at this relaxed evening filled with fun, convers
 ations and creativity.\nEnjoy complimentary canapes. Meet great local 
 businesses. Enjoy our funky business showcase courtesy of Debbie from 
 ThemeIt Events. Make positive connections for business. Enjoy our Musi
 cal Moment.\nAttendance is free but booking is essential. For informat
 ion and booking please visit http://www.topazsmile.com/Surrey_Style_Ev
 ent.htm\nVENUE\nMAP\n\n-------------------------\nSurrey Style is host
 ed by NiS Member Elaine Hickmott of Topaz Smile and EH Enterprises, Sa
 les & Marketing Mentor\n\nFor more information visit https://networkin
 ginsurrey.co.uk/events/free-surrey-style-business
DTSTART;TZID=Europe/London:20101118T180000
DTEND;TZID=Europe/London:20101118T210000
CATEGORIES:free, evening, business_networking_surrey, dorking
LOCATION:The Burford Bridge Hotel RH5 6BX
WEBSITE:http://www.mercure.com/gb/hotel-6635-mercure-box-hill-burford-
 bridge-hotel/location.shtml
URL:http://www.mercure.com/gb/hotel-6635-mercure-box-hill-burford-brid
 ge-hotel/location.shtml
CONTACT:07880 521406
ORGANIZER;CN="Elaine Hickmott":https://networkinginsurrey.co.uk/profil
 e/ElaineHickmott
ATTACH;FMTTYPE="image/jpeg":http://storage.ning.com/topology/rest/1.0/
 file/get/2591385926?profile=original
ATTENDEE;ROLE=REQ-PARTICIPANT;PARTSTAT=ACCEPTED;RSVP=TRUE;CN="Rosemary
  Hemmett":https://networkinginsurrey.co.uk/profile/RosemaryHemmett
ATTENDEE;ROLE=REQ-PARTICIPANT;PARTSTAT=ACCEPTED;RSVP=TRUE;CN="Alan Rog
 ers":https://networkinginsurrey.co.uk/profile/DreamGeniusLtd
ATTENDEE;ROLE=REQ-PARTICIPANT;PARTSTAT=ACCEPTED;RSVP=TRUE;CN="Sarah Ma
 rtin":https://networkinginsurrey.co.uk/profile/SarahMartin
ATTENDEE;ROLE=REQ-PARTICIPANT;PARTSTAT=ACCEPTED;RSVP=TRUE;CN="Michael 
 Harlow":https://networkinginsurrey.co.uk/profile/MichaelHarlow
ATTENDEE;ROLE=REQ-PARTICIPANT;PARTSTAT=ACCEPTED;RSVP=TRUE;CN="Heidi Ri
 ce":https://networkinginsurrey.co.uk/profile/HeidiRice
ATTENDEE;ROLE=REQ-PARTICIPANT;PARTSTAT=ACCEPTED;RSVP=TRUE;CN="Keith Gr
 over, NiS Founder":https://networkinginsurrey.co.uk/profile/KeithGrove
 r
ATTENDEE;ROLE=REQ-PARTICIPANT;PARTSTAT=ACCEPTED;RSVP=TRUE;CN="Elaine H
 ickmott":https://networkinginsurrey.co.uk/profile/ElaineHickmott
END:VEVENT
END:VCALENDAR
