BEGIN:VCALENDAR
PRODID:NingEventWidget-v1
VERSION:2.0
METHOD:PUBLISH
BEGIN:VTIMEZONE
TZID:Europe/London
X-LIC-LOCATION:Europe/London
BEGIN:DAYLIGHT
TZOFFSETFROM:+0000
TZOFFSETTO:+0100
TZNAME:BST
DTSTART:19700329T010000
RRULE:FREQ=YEARLY;BYMONTH=3;BYDAY=-1SU
END:DAYLIGHT
BEGIN:STANDARD
TZOFFSETFROM:+0100
TZOFFSETTO:+0000
TZNAME:GMT
DTSTART:19701025T020000
RRULE:FREQ=YEARLY;BYMONTH=10;BYDAY=-1SU
END:STANDARD
END:VTIMEZONE
BEGIN:VEVENT
UID:4626108:Event:4851
DTSTAMP:20260424T195822Z
SUMMARY:FREE Surrey Networking Evening, Caterham
DESCRIPTION:This will be a busy Networking Evening in a relaxed and so
 ciable environment. Come along to meet local businesses.\n\nIt's a one
  off event funded and held by BNI Caterham (http://www.bni-caterham.co
 .uk). It will be informal networking, so come armed with business card
 s and a smile.\n\nThe nibbles will be free and you can stay on to eat 
 at this lovely Spanish restaurant if you choose (meal is standard pric
 es).\n\nPlease message me or email stuart@nowmakemoney.co.uk if you'd 
 like to book. Attendance is free, but we need to let the venue know ab
 out numbers.\n\nPost code for Sat Nav is CR3 6QB and there's a google 
 map link above.\n\nParking is on the street and can be a little diffic
 ult\n\nFor more information visit https://networkinginsurrey.co.uk/eve
 nts/free-surrey-networking-evening
DTSTART;TZID=Europe/London:20101104T180000
DTEND;TZID=Europe/London:20101104T200000
CATEGORIES:free, business, networking, evening
LOCATION:Casa Lola CR3 6QB
WEBSITE:http://maps.google.co.uk/maps?f=q&source=s_q&hl=en&geocode=&q=
 casa+lola+caterham&sll=53.800651,-4.064941&sspn=9.768803,28.256836&ie=
 UTF8&hq=casa+lola+caterham&hnear=&ll=54.648413,-4.042969&spn=9.571177,
 28.256836&t=h&z=5&iwloc=A
URL:http://maps.google.co.uk/maps?f=q&source=s_q&hl=en&geocode=&q=casa
 +lola+caterham&sll=53.800651,-4.064941&sspn=9.768803,28.256836&ie=UTF8
 &hq=casa+lola+caterham&hnear=&ll=54.648413,-4.042969&spn=9.571177,28.2
 56836&t=h&z=5&iwloc=A
CONTACT:07884311737
ORGANIZER;CN="Stuart Ritchie":https://networkinginsurrey.co.uk/profile
 /StuartRitchie
ATTACH;FMTTYPE="image/jpeg":http://storage.ning.com/topology/rest/1.0/
 file/get/2591385690?profile=original
ATTENDEE;ROLE=REQ-PARTICIPANT;PARTSTAT=ACCEPTED;RSVP=TRUE;CN="Stuart R
 itchie":https://networkinginsurrey.co.uk/profile/StuartRitchie
END:VEVENT
END:VCALENDAR
