BEGIN:VCALENDAR
PRODID:NingEventWidget-v1
VERSION:2.0
METHOD:PUBLISH
BEGIN:VTIMEZONE
TZID:Europe/London
X-LIC-LOCATION:Europe/London
BEGIN:DAYLIGHT
TZOFFSETFROM:+0000
TZOFFSETTO:+0100
TZNAME:BST
DTSTART:19700329T010000
RRULE:FREQ=YEARLY;BYMONTH=3;BYDAY=-1SU
END:DAYLIGHT
BEGIN:STANDARD
TZOFFSETFROM:+0100
TZOFFSETTO:+0000
TZNAME:GMT
DTSTART:19701025T020000
RRULE:FREQ=YEARLY;BYMONTH=10;BYDAY=-1SU
END:STANDARD
END:VTIMEZONE
BEGIN:VEVENT
UID:4626108:Event:5116
DTSTAMP:20260424T035607Z
SUMMARY:FREE Surrey Jelly Day at Caterham
DESCRIPTION:Are you based in Surrey? Would you like the the chance to 
 get out of the (home)office and work alongside other like-minded busin
 ess people for one day a month?\n\nWhat is Jelly? Jelly is a casual mo
 nthly co-working event, where homeworkers, freelancers, small business
  owners who want a change of working scene once in a while can get tog
 ether with their laptops once a month to have a change from their usua
 l workplace, meet some new people and work together in a social enviro
 nment .\n\nJelly is mainly about work with a bit of chat, sharing idea
 s, helping others with business issues, passing on tips and maybe even
  collaborating on a new project. Jelly is NOT networking- it isn't abo
 ut trying to find new clients, pitching your business or trying to sel
 l. Doing any of that is guaranteed to make you instantly unpopular.\n\
 nIt's FREE to come along, all you need do is bring some money to buy y
 ourself tea/coffee. You are welcome to bring your own lunch or there i
 s a local supermarket a couple of minutes walk away.\n\nWhen is it? Su
 rrey Jelly at Caterham will be on 17 November 2010 and monthly thereaf
 ter. Places are limited and anyone wanting to come along will need to 
 book a free ticket.\n\nWhere is it? Bronzeoak Business Centre, Staffor
 d Road, Caterham, Surrey CR3 6JG Parking There are 5 free parking spac
 es available on site, you will need to get a parking ticket as well. W
 hen you arrive you need to show your parking ticket to the receptionis
 t to qualify for a parking permit. If you don't have one of these park
 ing tickets with you will not be issued with a parking permit and will
  be asked to park off site. Free parking is also available further dow
 n Stafford Road.\n\nDo I have to stay all day? People can turn up at a
 ny point from the starting point, introduce themselves to the organise
 r, plug in their laptop and access the wi fi with no obligation to be 
 there from start to finish so you can fit Jelly in around other commit
 ments like the school run. Obviously the longer you're there the more 
 vibrant and interactive the day will be.\n\nDo I qualify? As long as y
 ou have a laptop to keep you busy and you're a business person then yo
 u qualify. The more variety of people we have attending the better! Ev
 en if you're still researching a business you're more than welcome to 
 come along and get some inspiration!\n\nWho's organising it? Lyn Frenc
 h of www.findgoodcustomerservice.com.\n\nAny questions? @SurreyJelly o
 n Twitter or email lyn@fgcs.co.uk or hazel@fgcs.co.uk\n\nInterested in
  coming along? You MUST sign up to be able to come along as numbers ar
 e strictly limited http://www.surreyjellycaterham1.eventbrite.com\n\nI
 f you do not get a place you'll go the waiting list to replace anyone 
 who drops out last minute. If you get a ticket and subsequently can't 
 attend then PLEASE let us know so we can reallocate your space - thank
  you.\n\nFor more information visit https://networkinginsurrey.co.uk/e
 vents/free-surrey-jelly-day-at
DTSTART;TZID=Europe/London:20101117T093000
DTEND;TZID=Europe/London:20101117T163000
CATEGORIES:free, co-working
LOCATION:Bronzeoak Business Centre
WEBSITE:http://www.bronzeoakbusinesscentre.co.uk/find_us.php
URL:http://www.bronzeoakbusinesscentre.co.uk/find_us.php
CONTACT:01883 332600
ORGANIZER;CN="Lyn French":https://networkinginsurrey.co.uk/profile/Lyn
 French
ATTACH;FMTTYPE="image/jpeg":http://storage.ning.com/topology/rest/1.0/
 file/get/2591386626?profile=original
ATTENDEE;ROLE=REQ-PARTICIPANT;PARTSTAT=ACCEPTED;RSVP=TRUE;CN="Alan Rog
 ers":https://networkinginsurrey.co.uk/profile/DreamGeniusLtd
ATTENDEE;ROLE=REQ-PARTICIPANT;PARTSTAT=ACCEPTED;RSVP=TRUE;CN="Wendy Ag
 er":https://networkinginsurrey.co.uk/profile/WendyAger
ATTENDEE;ROLE=REQ-PARTICIPANT;PARTSTAT=ACCEPTED;RSVP=TRUE;CN="Lyn Fren
 ch":https://networkinginsurrey.co.uk/profile/LynFrench
END:VEVENT
END:VCALENDAR
