BEGIN:VCALENDAR
PRODID:NingEventWidget-v1
VERSION:2.0
METHOD:PUBLISH
BEGIN:VTIMEZONE
TZID:Europe/London
X-LIC-LOCATION:Europe/London
BEGIN:DAYLIGHT
TZOFFSETFROM:+0000
TZOFFSETTO:+0100
TZNAME:BST
DTSTART:19700329T010000
RRULE:FREQ=YEARLY;BYMONTH=3;BYDAY=-1SU
END:DAYLIGHT
BEGIN:STANDARD
TZOFFSETFROM:+0100
TZOFFSETTO:+0000
TZNAME:GMT
DTSTART:19701025T020000
RRULE:FREQ=YEARLY;BYMONTH=10;BYDAY=-1SU
END:STANDARD
END:VTIMEZONE
BEGIN:VEVENT
UID:4626108:Event:6939
DTSTAMP:20260422T051045Z
SUMMARY:FREE Surrey Jelly Co-working Day, Caterham
DESCRIPTION:FREE Surrey Jelly Day at the Bronzeoak Business Centre\n\n
 Based in Surrey? Fancy escaping from the (home)office and working alon
 gside other like-minded business people for one day each month? Bronze
 oak Business Centre kindly host Surrey Jelly in their fabulous confere
 nce room with 'pay-as-you-go' tea and coffee. There's free wifi, and p
 arking close by.What is Jelly?\nIt's a casual co-working event, where 
 homeworkers, freelancers, and small business owners who want a change 
 of working scene can get together with their laptops to meet new peopl
 e and work together in a social environment. It's work with a bit of c
 hat, sharing ideas, helping others with business issues, passing on ti
 ps and maybe even collaborating on a new project. Jelly is NOT network
 ing for new clients, pitching your business or trying to sell - all of
  which are frowned upon!\nTurn up at any time, introduce yourself to t
 he organiser, plug in your laptop and access the wi fi, and you're off
 ! Stay as long as you like, and fit Jelly around your commitments, lik
 e the school run.\nDo I qualify? If you're a business person with a la
 ptop or paperwork to keep you busy, you're in! Still researching a new
  business? Come along and get some inspiration.When is it? Surrey Jell
 y is monthly.\nCOST: What does it cost ?It's FREE to attend - just bri
 ng some money for tea or coffee and your own lunch (there's a supermar
 ket two minutes' walk away.CLICK HERE TO BOOK  Places are limited and
  you will need to book a free ticket\nWho's organising it? NiS Members
  Lyn French and Hazel McLellan- Principal Consultants at FGCS Social
  Media\nPlease Book! Message @SurreyJelly on Twitter or email lyn@fgcs
 .co.uk You MUST sign up to attend as we are strictly limited to 12 pla
 ces. When we're full you go the waiting list - so if you get a ticket 
 and can't attend PLEASE let us know - thanks!\nMAP\nParking: There are
  5 free spaces at Bronzeoak - apply on the link above and get a parkin
 g permit from the receptionist - otherwise there's free parking along 
 Stafford Road\n\nFor more information visit https://networkinginsurrey
 .co.uk/events/free-surrey-jelly-coworking
DTSTART;TZID=Europe/London:20110119T093000
DTEND;TZID=Europe/London:20110119T160000
CATEGORIES:free, co-working, caterham, surrey_jelly
LOCATION:Bronzeoak Business Centre CR3 6JG
WEBSITE:http://www.bronzeoakbusinesscentre.co.uk/find_us.php
URL:http://www.bronzeoakbusinesscentre.co.uk/find_us.php
CONTACT:01883 332600
ORGANIZER;CN="Lyn French":https://networkinginsurrey.co.uk/profile/Lyn
 French
ATTACH;FMTTYPE="image/jpeg":http://storage.ning.com/topology/rest/1.0/
 file/get/2591386626?profile=original
ATTENDEE;ROLE=REQ-PARTICIPANT;PARTSTAT=ACCEPTED;RSVP=TRUE;CN="Wendy Ag
 er":https://networkinginsurrey.co.uk/profile/WendyAger
ATTENDEE;ROLE=REQ-PARTICIPANT;PARTSTAT=ACCEPTED;RSVP=TRUE;CN="Avril Jo
 nes LRPS":https://networkinginsurrey.co.uk/profile/AvrilJones
ATTENDEE;ROLE=REQ-PARTICIPANT;PARTSTAT=ACCEPTED;RSVP=TRUE;CN="Lyn Fren
 ch":https://networkinginsurrey.co.uk/profile/LynFrench
END:VEVENT
END:VCALENDAR
