BEGIN:VCALENDAR
PRODID:NingEventWidget-v1
VERSION:2.0
METHOD:PUBLISH
BEGIN:VTIMEZONE
TZID:Europe/London
X-LIC-LOCATION:Europe/London
BEGIN:DAYLIGHT
TZOFFSETFROM:+0000
TZOFFSETTO:+0100
TZNAME:BST
DTSTART:19700329T010000
RRULE:FREQ=YEARLY;BYMONTH=3;BYDAY=-1SU
END:DAYLIGHT
BEGIN:STANDARD
TZOFFSETFROM:+0100
TZOFFSETTO:+0000
TZNAME:GMT
DTSTART:19701025T020000
RRULE:FREQ=YEARLY;BYMONTH=10;BYDAY=-1SU
END:STANDARD
END:VTIMEZONE
BEGIN:VEVENT
UID:4626108:Event:36207
DTSTAMP:20260421T055518Z
SUMMARY:FREE Surrey Jelly Co-Working Day, Caterham
DESCRIPTION:FREE Surrey Jelly Day at the Bronzeoak Business Centre\n\n
 Based in Surrey? Fancy escaping from the (home)office and working alon
 gside other like-minded business people for one day each month? Bronz
 eoak Business Centre kindly host Surrey Jelly in their fabulous confe
 rence room with 'pay-as-you-go' tea and coffee. There's free wifi, and
  parking close by.What is Jelly?\nIt's a casual co-working event, wher
 e homeworkers, freelancers, and small business owners who want a chang
 e of working scene can get together with their laptops to meet new peo
 ple and work together in a social environment. It's work with a bit of
  chat, sharing ideas, helping others with business issues, passing on 
 tips and maybe even collaborating on a new project. Jelly is NOT netwo
 rking for new clients, pitching your business or trying to sell - all 
 of which are frowned upon!\nTurn up at any time, introduce yourself to
  the organiser, plug in your laptop and access the wi fi, and you're o
 ff! Stay as long as you like, and fit Jelly around your commitments, l
 ike the school run.\nDo I qualify? If you're a business person with a
  laptop or paperwork to keep you busy, you're in! Still researching a 
 new business? Come along and get some inspiration.When is it? Surrey 
 Jelly is on the 3rd Wednesday monthly.\nCOST: It's FREE to attend -
  just bring some money for tea or coffee and your own lunch (there's a
  supermarket two minutes' walk away.CLICK HERE TO BOOK  Places are l
 imited and you will need to book a free ticket\nWho's organising it? 
 NiS Members Lyn French and Hazel McLellan- Principal Consultants at 
 FGCS Social Media\nPlease Book! Message @SurreyJelly on Twitter or em
 ail lyn@fgcs.co.uk You MUST sign up to attend as we are strictly limit
 ed to 12 places. When we're full you go the waiting list - so if you g
 et a ticket and can't attend PLEASE let us know - thanks!\nMAP\nParkin
 g: There's free parking further along Stafford Road.\n\nFor more infor
 mation visit https://networkinginsurrey.co.uk/events/free-surrey-jelly
 -co-working-day-caterham-1
DTSTART;TZID=Europe/London:20111116T093000
DTEND;TZID=Europe/London:20111116T163000
CATEGORIES:free, co-working, event
LOCATION:Bronzeoak Business Centre, CR3 6JG
WEBSITE:http://www.bronzeoakbusinesscentre.co.uk/find_us.php
URL:http://www.bronzeoakbusinesscentre.co.uk/find_us.php
CONTACT:01883 332600
ORGANIZER;CN="Lyn French":https://networkinginsurrey.co.uk/profile/Lyn
 French
ATTACH;FMTTYPE="image/jpeg":http://storage.ning.com/topology/rest/1.0/
 file/get/2591390650?profile=original
ATTENDEE;ROLE=REQ-PARTICIPANT;PARTSTAT=ACCEPTED;RSVP=TRUE;CN="Lyn Fren
 ch":https://networkinginsurrey.co.uk/profile/LynFrench
END:VEVENT
END:VCALENDAR
