BEGIN:VCALENDAR
PRODID:NingEventWidget-v1
VERSION:2.0
METHOD:PUBLISH
BEGIN:VTIMEZONE
TZID:Europe/London
X-LIC-LOCATION:Europe/London
BEGIN:DAYLIGHT
TZOFFSETFROM:+0000
TZOFFSETTO:+0100
TZNAME:BST
DTSTART:19700329T010000
RRULE:FREQ=YEARLY;BYMONTH=3;BYDAY=-1SU
END:DAYLIGHT
BEGIN:STANDARD
TZOFFSETFROM:+0100
TZOFFSETTO:+0000
TZNAME:GMT
DTSTART:19701025T020000
RRULE:FREQ=YEARLY;BYMONTH=10;BYDAY=-1SU
END:STANDARD
END:VTIMEZONE
BEGIN:VEVENT
UID:4626108:Event:5941
DTSTAMP:20260422T203804Z
SUMMARY:FREE Surrey 'Christmas' Jelly Day, Caterham
DESCRIPTION:FREE Surrey 'Christmas' Jelly Day at the Bronzeoak Busines
 s Centre\n\nWelcome to Surrey 'Christmas' Jelly!\nBased in Surrey? Fan
 cy escaping from the (home)office and working alongside other like-min
 ded business people for one day each month?\nBronzeoak Business Centre
  are hosting Surrey 'Christmas' Jelly in their fabulous conference roo
 m with 'pay-as-you-go'tea and coffee and we'll provide festive treats 
 and mince pies. There's free wifi, and parking close by.\nWhat is Jell
 y?\nJelly is a casual monthly co-working event, where homeworkers, fre
 elancers, and small business owners who want a change of working scene
  can get together with their laptops to meet new people and work toget
 her in a social environment. It's work with a bit of chat, sharing ide
 as, helping others with business issues, passing on tips and maybe eve
 n collaborating on a new project. Jelly is NOT networking for new clie
 nts, pitching your business or trying to sell - all of which are frown
 ed upon! Jelly started in the US and is now in the UK with new co-work
 ing groups starting up every month - come along and give it a try!\nWh
 at does it cost ?Its FREE to attend - just bring some money for tea or
  coffee. and your own lunch (there's a supermarket two minutes' walk a
 way.\nWhen is it?Surrey Jelly is monthly thereafter. Places are limite
 d and will need to book a free ticket - available two weeks prior to t
 he event their release will be announced on the JellySouthEast page on
  Facebook\nParking\nThere are 5 free spaces at Bronzeoak - apply on th
 e link above and get a parking permit from the receptionist - otherwis
 e there's fee parking along Stafford Road.\nDo I have to stay all day?
 \nTurn up at any time, introduce yourself to the organiser, plug in yo
 ur laptop and access the wi fi, and you're off! Stay as long as you li
 ke, and fit Jelly around your commitments, like the school run.\nDo I 
 qualify?\nIf you're a business person with a laptop or paperwork to ke
 ep you busy, you're in! Still researching a new business? Come along a
 nd get some inspiration.\nWho's organising it?\nNiS Members Lyn French
  and Hazel McLellan of findgoodcustomerservice.com - the website where
  you can check out local businesses and professionals recommended by t
 heir customers for the great service they provide.\nAny questions?\nMe
 ssage @SurreyJelly on Twitter or email lyn@fgcs.co.uk You MUST sign up
  to attend as we are strictly limited to 12 places. When we're full yo
 u go the waiting list - so if you get a ticket and can't attend PLEASE
  let us know - thanks!\n\nFor more information visit https://networkin
 ginsurrey.co.uk/events/free-surrey-christmas-jelly
DTSTART;TZID=Europe/London:20101215T093000
DTEND;TZID=Europe/London:20101215T160000
CATEGORIES:free, co-working, caterham, surrey_jelly
LOCATION:Bronzeoak Business Centre CR3 6JG
WEBSITE:http://www.bronzeoakbusinesscentre.co.uk/find_us.php
URL:http://www.bronzeoakbusinesscentre.co.uk/find_us.php
CONTACT:01883 332600
ORGANIZER;CN="Lyn French":https://networkinginsurrey.co.uk/profile/Lyn
 French
ATTACH;FMTTYPE="image/jpeg":http://storage.ning.com/topology/rest/1.0/
 file/get/2591388492?profile=original
ATTENDEE;ROLE=REQ-PARTICIPANT;PARTSTAT=ACCEPTED;RSVP=TRUE;CN="Alan Rog
 ers":https://networkinginsurrey.co.uk/profile/DreamGeniusLtd
ATTENDEE;ROLE=REQ-PARTICIPANT;PARTSTAT=ACCEPTED;RSVP=TRUE;CN="Lyn Fren
 ch":https://networkinginsurrey.co.uk/profile/LynFrench
END:VEVENT
END:VCALENDAR
