BEGIN:VCALENDAR
PRODID:NingEventWidget-v1
VERSION:2.0
METHOD:PUBLISH
BEGIN:VTIMEZONE
TZID:Europe/London
X-LIC-LOCATION:Europe/London
BEGIN:DAYLIGHT
TZOFFSETFROM:+0000
TZOFFSETTO:+0100
TZNAME:BST
DTSTART:19700329T010000
RRULE:FREQ=YEARLY;BYMONTH=3;BYDAY=-1SU
END:DAYLIGHT
BEGIN:STANDARD
TZOFFSETFROM:+0100
TZOFFSETTO:+0000
TZNAME:GMT
DTSTART:19701025T020000
RRULE:FREQ=YEARLY;BYMONTH=10;BYDAY=-1SU
END:STANDARD
END:VTIMEZONE
BEGIN:VEVENT
UID:4626108:Event:2645
DTSTAMP:20260425T231332Z
SUMMARY:FREE Surrey Chambers Information Evening
DESCRIPTION:Meet the Chamber & Members' Update Evening\n\nAn opportuni
 ty for new and potential members to join us to discover the benefits o
 f membership, meet the chamber staff and other members in a relaxed an
 d informal networking atmosphere.\nSpeaker: Louise Punter, Chief Execu
 tive, Surrey Chambers of Commerce - 'How to Get the Most out of Your M
 embership' For those more experienced members this is an ideal opportu
 nity to find out about any new services. These events attract between 
 80 and 140 delegates, and offer an excellent opportunity for networkin
 g and meeting the type of company you would like to do business with.\
 nOne of England’s finest coaching inns, The Talbot Inn has for centu
 ries played its part in history and is said to have provided the stage
  for Lord Nelson and Lady Hamilton’s love affair to blossom in 1798.
  Recently refurbished to an exceptional standard, The Talbot still ret
 ains its many impressive historic features, whilst introducing a conte
 mporary twist. Wonderfully relaxed and welcoming, you’ll find a cosy
  bar with open fires, real ales and outstanding food. The new restaura
 nt features a stunning copper ceiling and glass wall overlooking the C
 hampagne terrace and garden. Awarded an AA Inn 4 star rating, the Talb
 ot has also an AA Dinner Award, and AA Breakfast Award. AND Best Pub i
 n Surrey Award.\n\nCOST: FREE to Chamber Members and Non-members \nBOO
 K HERE When you book this FREE event online the system will ask you to
  choose a payment method. Please select Cheque/BACS payment so your bo
 oking can be processed. No payment is needed.\nVENUE\nMAP There is amp
 le parking in the Talbot Inn's own car park.\n\nFor more information v
 isit https://networkinginsurrey.co.uk/events/free-surrey-chambers
DTSTART;TZID=Europe/London:20100708T180000
DTEND;TZID=Europe/London:20100708T200000
CATEGORIES:evening, ripley, surrey_chambers, business_networking
LOCATION:The Wisley Room, The Talbot Inn GU23 6BB
WEBSITE:http://www.surrey-chambers.co.uk/catalog/product_info.php?cPat
 h=21_32&products_id=187&osCsid=fqq4bj468c7g8tgqaqe37mok23
URL:http://www.surrey-chambers.co.uk/catalog/product_info.php?cPath=21
 _32&products_id=187&osCsid=fqq4bj468c7g8tgqaqe37mok23
CONTACT:
ORGANIZER:Richard Guillaume, Surrey Chambers
ATTACH;FMTTYPE="image/jpeg":http://storage.ning.com/topology/rest/1.0/
 file/get/2591374591?profile=original
ATTENDEE;ROLE=REQ-PARTICIPANT;PARTSTAT=ACCEPTED;RSVP=TRUE;CN="Derek Wi
 lliamson":https://networkinginsurrey.co.uk/profile/DerekWilliamson
ATTENDEE;ROLE=REQ-PARTICIPANT;PARTSTAT=ACCEPTED;RSVP=TRUE;CN="Keith Gr
 over, NiS Founder":https://networkinginsurrey.co.uk/profile/KeithGrove
 r
ATTENDEE;ROLE=REQ-PARTICIPANT;PARTSTAT=TENTATIVE;RSVP=TRUE;CN="Annie H
 eggie":https://networkinginsurrey.co.uk/profile/Annie
END:VEVENT
END:VCALENDAR
