BEGIN:VCALENDAR
PRODID:NingEventWidget-v1
VERSION:2.0
METHOD:PUBLISH
BEGIN:VTIMEZONE
TZID:Europe/London
X-LIC-LOCATION:Europe/London
BEGIN:DAYLIGHT
TZOFFSETFROM:+0000
TZOFFSETTO:+0100
TZNAME:BST
DTSTART:19700329T010000
RRULE:FREQ=YEARLY;BYMONTH=3;BYDAY=-1SU
END:DAYLIGHT
BEGIN:STANDARD
TZOFFSETFROM:+0100
TZOFFSETTO:+0000
TZNAME:GMT
DTSTART:19701025T020000
RRULE:FREQ=YEARLY;BYMONTH=10;BYDAY=-1SU
END:STANDARD
END:VTIMEZONE
BEGIN:VEVENT
UID:4626108:Event:6715
DTSTAMP:20260422T063901Z
SUMMARY:FREE Surrey Business Club Tuesday Evening Gathering, Cobham
DESCRIPTION:Surrey Business Club 'Sociable Networking' Evening at The 
 Cricketers\n\nWe usually meet on the first Tuesday evening of each mon
 th but since the first Tuesday of January was also the first day back 
 at work, we've decided to meet a little later in the month when we've 
 all had a chance to recover from the over-indulgences of the Christmas
  season! The venue will be one of our regular haunts, The Cricketers
  pub at Cobham Downside. It's on the north side of Downside Common, a
 t the end of a short unmade narrow road past a few houses. We'll be th
 ere from 7.15pm for at least a couple of hours. MAP Please contact us
  if you would like to join us for a evening of informal 'sociable netw
 orking'.\n_____________________\n Surrey Business Club is a not-for-p
 rofit organisation for Surrey business people, helping them to share i
 deas and business opportunities in a supportive social environment. It
 's the oldest business networking club in Surrey, founded in the 1970'
 s, and there are no membership restrictions or monitored referral syst
 ems - just informal networking in a friendly atmosphere. We seek out p
 ubs where we can get a hot meal and a drink for a tenner, sit together
  in comfort - and be able to hear ourselves think!\n\nFor more informa
 tion visit https://networkinginsurrey.co.uk/events/free-surrey-busines
 s-club
DTSTART;TZID=Europe/London:20110118T191500
DTEND;TZID=Europe/London:20110118T213000
CATEGORIES:free, evening, cobham, business_networking_surrey, surrey_b
 usiness_club
LOCATION:The Cricketers, Downside KT11 3NX
WEBSITE:http://surreybusinessclub.org.uk//
URL:http://surreybusinessclub.org.uk//
CONTACT:
ORGANIZER;CN="Keith Grover, NiS Founder":https://networkinginsurrey.co
 .uk/profile/KeithGrover
ATTACH;FMTTYPE="image/jpeg":http://storage.ning.com/topology/rest/1.0/
 file/get/2591374362?profile=original
ATTENDEE;ROLE=REQ-PARTICIPANT;PARTSTAT=ACCEPTED;RSVP=TRUE;CN="Vasco de
  Gouveia":https://networkinginsurrey.co.uk/profile/VascodeGouveia305
ATTENDEE;ROLE=REQ-PARTICIPANT;PARTSTAT=ACCEPTED;RSVP=TRUE;CN="Ian Gray
 ":https://networkinginsurrey.co.uk/profile/IanGray
ATTENDEE;ROLE=REQ-PARTICIPANT;PARTSTAT=ACCEPTED;RSVP=TRUE;CN="Carole H
 azlerigg":https://networkinginsurrey.co.uk/profile/CaroleHazlerigg
ATTENDEE;ROLE=REQ-PARTICIPANT;PARTSTAT=ACCEPTED;RSVP=TRUE;CN="Keith Gr
 over, NiS Founder":https://networkinginsurrey.co.uk/profile/KeithGrove
 r
ATTENDEE;ROLE=REQ-PARTICIPANT;PARTSTAT=TENTATIVE;RSVP=TRUE;CN="Nicky R
 udd":https://networkinginsurrey.co.uk/profile/NickyRudd
END:VEVENT
END:VCALENDAR
