BEGIN:VCALENDAR
PRODID:NingEventWidget-v1
VERSION:2.0
METHOD:PUBLISH
BEGIN:VTIMEZONE
TZID:Europe/London
X-LIC-LOCATION:Europe/London
BEGIN:DAYLIGHT
TZOFFSETFROM:+0000
TZOFFSETTO:+0100
TZNAME:BST
DTSTART:19700329T010000
RRULE:FREQ=YEARLY;BYMONTH=3;BYDAY=-1SU
END:DAYLIGHT
BEGIN:STANDARD
TZOFFSETFROM:+0100
TZOFFSETTO:+0000
TZNAME:GMT
DTSTART:19701025T020000
RRULE:FREQ=YEARLY;BYMONTH=10;BYDAY=-1SU
END:STANDARD
END:VTIMEZONE
BEGIN:VEVENT
UID:4626108:Event:7426
DTSTAMP:20260424T092152Z
SUMMARY:FREE Surrey Business Club Evening Gathering, Guildford
DESCRIPTION:Sociable Networking at the All Bar One Launch Party...\n\n
 For our February 2011 meeting we're doing something a bit different..
 .  guerilla networking!We regularly meet on the first Tuesday of each
  month for 'sociable networking' in a pub or restaurant in Surrey. How
 ever, various other commitments meant that not enough of our 'hard 
 core' regular attendees could make the Tuesday 1 February meeting dat
 e. When this happens, Plan B kicks in, which means that one of our ne
 tworking group can suggest an alternative date and venue late in the m
 onth, and if enough people say they can attend, we make that the offic
 ial Club meeting instead. Simples! So for February, Gerry Brierley h
 as suggested we head on down to the free launch party  of the new All
  Bar One in Guildford on Thursday 10 Feb for 'complimentary drinks and
  bite-sized nibbles from our food menu'.  You'll need to book yoursel
 f in on their website here  where you can find more details and see o
 ther meal launch offers. If you're not one of our regulars, please con
 tact us if you would like to join us for a sociable evening so we'll k
 now to watch out for you at the party... _____________________\n Surr
 ey Business Club is a not-for-profit organisation for Surrey business 
 people, helping them to share ideas and business opportunities in a su
 pportive social environment. It's the oldest business networking club 
 in Surrey, founded in the 1970's, and there are no membership restrict
 ions or monitored referral systems - just informal networking in a fri
 endly atmosphere. We seek out pubs where we can get a hot meal and a d
 rink for a tenner, sit together in comfort - and be able to hear ourse
 lves think!\n\n\nFor more information visit https://networkinginsurrey
 .co.uk/events/free-surrey-business-club-1
DTSTART;TZID=Europe/London:20110210T183000
DTEND;TZID=Europe/London:20110210T210000
CATEGORIES:sociable, evening, guildford, business_networking_surrey
LOCATION:All Bar One GU1 4AF
WEBSITE:http://www.surreybusinessclub.org.uk/
URL:http://www.surreybusinessclub.org.uk/
CONTACT:
ORGANIZER:The All Bar One Team
ATTACH;FMTTYPE="image/jpeg":http://storage.ning.com/topology/rest/1.0/
 file/get/2591374362?profile=original
ATTENDEE;ROLE=REQ-PARTICIPANT;PARTSTAT=ACCEPTED;RSVP=TRUE;CN="Keith Gr
 over, NiS Founder":https://networkinginsurrey.co.uk/profile/KeithGrove
 r
END:VEVENT
END:VCALENDAR
