BEGIN:VCALENDAR
PRODID:NingEventWidget-v1
VERSION:2.0
METHOD:PUBLISH
BEGIN:VTIMEZONE
TZID:Europe/London
X-LIC-LOCATION:Europe/London
BEGIN:DAYLIGHT
TZOFFSETFROM:+0000
TZOFFSETTO:+0100
TZNAME:BST
DTSTART:19700329T010000
RRULE:FREQ=YEARLY;BYMONTH=3;BYDAY=-1SU
END:DAYLIGHT
BEGIN:STANDARD
TZOFFSETFROM:+0100
TZOFFSETTO:+0000
TZNAME:GMT
DTSTART:19701025T020000
RRULE:FREQ=YEARLY;BYMONTH=10;BYDAY=-1SU
END:STANDARD
END:VTIMEZONE
BEGIN:VEVENT
UID:4626108:Event:3903
DTSTAMP:20260425T122556Z
SUMMARY:FREE Surrey Art Fair & Exhibition, Godalming
DESCRIPTION:Saturday Surrey Art Fair at Godalming Borough Hall\n\nThe 
 art and craft fair will feature a variety of local craftsmen and artis
 ans who will be selling their handmade works.\nAlongside the art and c
 raft fair there will be a small exhibition of the works produced in a 
 beginner's drawing workshop.\nTHere will also be 3 workshops for peopl
 e who would like to learn some portraiture techniques run by Jo Quigle
 y a local artist. The works produced from these sessions will be exhib
 ited in the Borough Hall. Visitors will be able to view these works an
 d vote on their favourite drawing. The beginner artist with the most v
 otes will be awarded an art themed hamper as a prize. Refreshments wil
 l be available throughout the day from the Borough Hall canteen where 
 visitors will be able to sit with a drink and a snack.\n\nCOST: Free a
 dmission\n\nMAP\n\n----------------------------\nThis event has been p
 osted by NiS Member Lianne Tadd.\n\nFor more information visit https:/
 /networkinginsurrey.co.uk/events/free-surrey-art-fair
DTSTART;TZID=Europe/London:20100925T100000
DTEND;TZID=Europe/London:20100925T170000
CATEGORIES:arts_and_crafts, godalming
LOCATION:Godalming Borough Hall GU7 1HR
WEBSITE:http://www.surreycommunity.info/surreyartfair/
URL:http://www.surreycommunity.info/surreyartfair/
CONTACT:07837 803490
ORGANIZER:Lianne Tadd
ATTACH;FMTTYPE="image/jpeg":http://storage.ning.com/topology/rest/1.0/
 file/get/2591379782?profile=original
ATTENDEE;ROLE=REQ-PARTICIPANT;PARTSTAT=TENTATIVE;RSVP=TRUE;CN="Hannah 
 Kirk":https://networkinginsurrey.co.uk/profile/HannahKirk
END:VEVENT
END:VCALENDAR
