BEGIN:VCALENDAR
PRODID:NingEventWidget-v1
VERSION:2.0
METHOD:PUBLISH
BEGIN:VTIMEZONE
TZID:Europe/London
X-LIC-LOCATION:Europe/London
BEGIN:DAYLIGHT
TZOFFSETFROM:+0000
TZOFFSETTO:+0100
TZNAME:BST
DTSTART:19700329T010000
RRULE:FREQ=YEARLY;BYMONTH=3;BYDAY=-1SU
END:DAYLIGHT
BEGIN:STANDARD
TZOFFSETFROM:+0100
TZOFFSETTO:+0000
TZNAME:GMT
DTSTART:19701025T020000
RRULE:FREQ=YEARLY;BYMONTH=10;BYDAY=-1SU
END:STANDARD
END:VTIMEZONE
BEGIN:VEVENT
UID:4626108:Event:3380
DTSTAMP:20260425T233146Z
SUMMARY:FREE Starting a Business Morning Workshop, Guildford
DESCRIPTION:Starting a Business - Is it for me?\n\nFormerly called \"F
 oundations for Success\", this free workshop is the vital first stage 
 of your journey to starting your own business. It is designed to help 
 you decide if running a business is for you and to give you the essent
 ial grounding you need to get started.\nAs well as looking at the day-
 to-day realities of starting your business, it will give you an insigh
 t into the commitment involved and the skills and qualities you will n
 eed. It will also help you prepare a workshop action plan that will ta
 ke you forward. Due to high demand these workshops are only available 
 to residents in Oxfordshire, Buckinghamshire, Berkshire, Surrey, Hamps
 hire/Isle of Wight, Sussex and Kent. We are unable to accept bookings 
 from outside this area â€“ please contact your local Business Link for
  further information.\nWhat does the workshop cover?\nThe workshop wil
 l help you explore the following: â€¢ What you want out of your busine
 ss â€¢ Defining your product or service â€¢ How to sell your product o
 r service â€¢ What makes up a business plan â€¢ Defining your personal
  survival budget\n\nBy the end of the session you will be able to:\nâ€
 ¢ Understand what is involved in starting and running a business\nâ€¢ 
 Decide if going into business is right for you\nâ€¢ Lay down foundatio
 n knowledge for future workshops\nâ€¢ Gain support and ideas from fell
 ow participants\nâ€¢ Complete an individual workshop action plan detai
 ling your next steps\nâ€¢ Understand the Business Link package of supp
 ort and what happens next\nâ€¢ Know how to access the support that is 
 available locally and nationally\n\nThe session will last for three ho
 urs and will be guided by a professional trainer who has a wealth of e
 xperience you can draw on.\n\nCOST: Free\nBOOK HERE - if the event is 
 full (and they fill up fast!) you can go on the waiting list or check 
 here for alternative dates\nMAP\n\nFor more information visit https://
 networkinginsurrey.co.uk/events/free-starting-a-business-1
DTSTART;TZID=Europe/London:20100904T100000
DTEND;TZID=Europe/London:20100904T130000
CATEGORIES:workshop, morning, weekend, guildford, free
LOCATION:Holiday Inn Guildford GU2 7XZ
WEBSITE:http://events.businesslinksoutheast.co.uk/ClientApps/Silverbea
 r.Web.EDMS/public/default.aspx?tabid=1536&id=10833&p=&orgId=1&guid=7ad
 0fba7-d4ad-4c9e-af6e-88f3b0292d9f
URL:http://events.businesslinksoutheast.co.uk/ClientApps/Silverbear.We
 b.EDMS/public/default.aspx?tabid=1536&id=10833&p=&orgId=1&guid=7ad0fba
 7-d4ad-4c9e-af6e-88f3b0292d9f
CONTACT:
ORGANIZER:Business Link Southeast
ATTACH;FMTTYPE="image/jpeg":http://storage.ning.com/topology/rest/1.0/
 file/get/2544373775?profile=original
ATTENDEE;ROLE=REQ-PARTICIPANT;PARTSTAT=ACCEPTED;RSVP=TRUE;CN="Aernout 
 Fabius":https://networkinginsurrey.co.uk/profile/AernoutFabius
ATTENDEE;ROLE=REQ-PARTICIPANT;PARTSTAT=ACCEPTED;RSVP=TRUE;CN="Keith Gr
 over, NiS Founder":https://networkinginsurrey.co.uk/profile/KeithGrove
 r
END:VEVENT
END:VCALENDAR
