BEGIN:VCALENDAR
PRODID:NingEventWidget-v1
VERSION:2.0
METHOD:PUBLISH
BEGIN:VTIMEZONE
TZID:Europe/London
X-LIC-LOCATION:Europe/London
BEGIN:DAYLIGHT
TZOFFSETFROM:+0000
TZOFFSETTO:+0100
TZNAME:BST
DTSTART:19700329T010000
RRULE:FREQ=YEARLY;BYMONTH=3;BYDAY=-1SU
END:DAYLIGHT
BEGIN:STANDARD
TZOFFSETFROM:+0100
TZOFFSETTO:+0000
TZNAME:GMT
DTSTART:19701025T020000
RRULE:FREQ=YEARLY;BYMONTH=10;BYDAY=-1SU
END:STANDARD
END:VTIMEZONE
BEGIN:VEVENT
UID:4626108:Event:103711
DTSTAMP:20260424T010745Z
SUMMARY:FREE Spelthorne Business Expo, Staines Upon Thames
DESCRIPTION:Spelthorne Business Expo at Spelthorne Leisure Centre\r\n\
 r\nThis new local Expo, organised by Everyone Active in association wi
 th NiS Member and exhibitions expert Paul Webster, is your chance to 
 meet, connect and network with other small and large businesses based 
 in the Guildford and Richmond areas, as well as throughout Spelthorne.
 \r\nInformed specialist speakers will be offering free practical hints
  and ideas to improve your business. We are passionate about supportin
 g local business growth and development, and as such, attendance to th
 e event is free for visitors.\r\nThe 2019 exhibition will focus on loc
 al business promotion and expects to see nearly 400 local Businesses c
 ongregate in Staines for the new annual gathering. You can:\r\n\r\nFin
 d out about new products and services that could help your business\r\
 nMeet leading business and Council representatives\r\nAttend inspirati
 onal FREE seminars on Health & Wellbeing, Networking, Public Speaking,
  LinkedIn for Business and more...\r\nPitch your business at our excit
 ing speed networking sessions\r\nNetwork! Network! Network!\r\n\r\nExh
 ibitor packages include;\r\n\r\nBusiness details added to all our Soci
 al Media Posts LOGO on the expo website\r\nRefreshments for 2 people (
 Refreshments include 2 free tea/coffee vouchers)\r\nSupport, advice an
 d updates from our friendly team. (We can also provide free advice on 
 how to get the most out of exhibiting and ideas on what you can do on 
 your stand)\r\nBasic show guide listing in the professional printed A
 5 event programme\r\nEntry into Best Stand Award\r\nFree internet acce
 ss\r\n\r\nCertificates will be awarded to 3 exhibitors who put in the 
 most effort into their stands. This is a great photo opportunity and w
 inners will also benefit from free promotion after the event.\r\nCOST:
  FREE to attend as a Visitor\r\nBOOKING: Please CLICK HERE to regi
 ster free to attend or to book a stand as an Exhibitor \r\nMAP\n\nFor
  more information visit https://networkinginsurrey.co.uk/events/free-s
 pelthorne-business-expo-staines-upon-thames
DTSTART;TZID=Europe/London:20190313T073000
DTEND;TZID=Europe/London:20190313T170000
CATEGORIES:business_expo, staines
LOCATION:Spelthorne Leisure Centre TW18 1AJ
WEBSITE:
URL:
CONTACT:
ORGANIZER:Everyone Active and Paul Webster
ATTACH;FMTTYPE="image/jpeg":https://storage.ning.com/topology/rest/1.0
 /file/get/915813186?profile=original
ATTENDEE;ROLE=REQ-PARTICIPANT;PARTSTAT=ACCEPTED;RSVP=TRUE;CN="Keith Gr
 over, NiS Founder":https://networkinginsurrey.co.uk/profile/KeithGrove
 r
ATTENDEE;ROLE=REQ-PARTICIPANT;PARTSTAT=TENTATIVE;RSVP=TRUE;CN="Jane Ty
 son":https://networkinginsurrey.co.uk/profile/JaneTyson
END:VEVENT
END:VCALENDAR
