BEGIN:VCALENDAR
PRODID:NingEventWidget-v1
VERSION:2.0
METHOD:PUBLISH
BEGIN:VTIMEZONE
TZID:Europe/London
X-LIC-LOCATION:Europe/London
BEGIN:DAYLIGHT
TZOFFSETFROM:+0000
TZOFFSETTO:+0100
TZNAME:BST
DTSTART:19700329T010000
RRULE:FREQ=YEARLY;BYMONTH=3;BYDAY=-1SU
END:DAYLIGHT
BEGIN:STANDARD
TZOFFSETFROM:+0100
TZOFFSETTO:+0000
TZNAME:GMT
DTSTART:19701025T020000
RRULE:FREQ=YEARLY;BYMONTH=10;BYDAY=-1SU
END:STANDARD
END:VTIMEZONE
BEGIN:VEVENT
UID:4626108:Event:69447
DTSTAMP:20260419T205413Z
SUMMARY:FREE Croydon Tweetup Evening, Croydon
DESCRIPTION:Tweetup at Matthews Yard!\n\nNo agenda, no fee. Just a soc
 ial.   Turn up for as long or little time as you like to meet other s
 ociable Croydon locals.\nDot-Social invite any socialites working or l
 iving or with an interest in Croydon to meetup in Croydon monthly at t
 he great community hub, workshpace & cafe that is Matthews Yard.\nJust
  off Surrey Street with a great menu, if you want to eat and reasonabl
 y priced drinks, this is just a pop-in meeting.\nWe have established a
  few 'regulars' since starting this up the Croydon Tweetups regularly 
 here in 2014 and are very welcoming to anyone new.\n\nSteph Darkes and
  Wendy Ager from Dot Social - find us at the bar or if there's not to
 o many of us seated - just ask at the bar.\nCOST: FREE\nBOOKING: No ne
 ed to book - just show up! You can let us know you're coming by clicki
 ng here and using the 'Count me in!' button\nMAP\n\nFor more informa
 tion visit https://networkinginsurrey.co.uk/events/free-social-croydon
 -tweetup
DTSTART;TZID=Europe/London:20141112T191500
DTEND;TZID=Europe/London:20141112T223000
CATEGORIES:social, networking, community, fun
LOCATION:Matthews Yard
WEBSITE:http://vite.io/croydontweetups
URL:http://vite.io/croydontweetups
CONTACT:07900 806571
ORGANIZER;CN="Wendy Ager":https://networkinginsurrey.co.uk/profile/Wen
 dyAger
ATTACH;FMTTYPE="image/jpeg":http://storage.ning.com/topology/rest/1.0/
 file/get/2591435146?profile=original
ATTENDEE;ROLE=REQ-PARTICIPANT;PARTSTAT=ACCEPTED;RSVP=TRUE;CN="Wendy Ag
 er":https://networkinginsurrey.co.uk/profile/WendyAger
END:VEVENT
END:VCALENDAR
