BEGIN:VCALENDAR
PRODID:NingEventWidget-v1
VERSION:2.0
METHOD:PUBLISH
BEGIN:VTIMEZONE
TZID:Europe/London
X-LIC-LOCATION:Europe/London
BEGIN:DAYLIGHT
TZOFFSETFROM:+0000
TZOFFSETTO:+0100
TZNAME:BST
DTSTART:19700329T010000
RRULE:FREQ=YEARLY;BYMONTH=3;BYDAY=-1SU
END:DAYLIGHT
BEGIN:STANDARD
TZOFFSETFROM:+0100
TZOFFSETTO:+0000
TZNAME:GMT
DTSTART:19701025T020000
RRULE:FREQ=YEARLY;BYMONTH=10;BYDAY=-1SU
END:STANDARD
END:VTIMEZONE
BEGIN:VEVENT
UID:4626108:Event:537996
DTSTAMP:20260421T102151Z
SUMMARY:FREE SME Surrey Awards Launch Event, Ripley
DESCRIPTION:SME Surrey Business Awards 2023 - Press Launch & Photo Cal
 l\r\n\r\nThe SME Surrey Business Awards, In Association with ServiceMa
 ster Clean, Press Launch will be hosted at Bentley Surrey, Trackspeed 
 House,Ripley.\r\nOur Press Launch is a fantastic networking opportunit
 y to meet with local Surrey Businesses across all industries over drin
 ks and refreshments. You will also hear about this year's categories, 
 our top tips for writing a winning entry and get the chance to networ
 k with our partners and sponsors.\r\nFind out more about this year’s
  SME Surrey Business Awards categories, key dates, awards partners a
 nd our top tips for writing a winning entry! Come and join us for cana
 pes and drinks, and network with other local Surrey businesses.\r\nCOS
 T: FREE - booking essential for catering purposes\r\nBOOKING: Please C
 LICK HERE to register your free place\r\nMAP\n\nFor more information v
 isit https://networkinginsurrey.co.uk/events/free-sme-surrey-awards-la
 unch-event-chertsey-1
DTSTART;TZID=Europe/London:20230425T150000
DTEND;TZID=Europe/London:20230425T170000
CATEGORIES:afternoon, free, networking
LOCATION:Bentley Surrey, Trackspeed House GU23 6HB
WEBSITE:
URL:
CONTACT:
ORGANIZER;CN="Keith Grover, NiS Founder":https://networkinginsurrey.co
 .uk/profile/KeithGrover
ATTACH;FMTTYPE="image/jpeg":https://storage.ning.com/topology/rest/1.0
 /file/get/11029339259?profile=original
ATTENDEE;ROLE=REQ-PARTICIPANT;PARTSTAT=ACCEPTED;RSVP=TRUE;CN="Keith Gr
 over, NiS Founder":https://networkinginsurrey.co.uk/profile/KeithGrove
 r
END:VEVENT
END:VCALENDAR
