BEGIN:VCALENDAR
PRODID:NingEventWidget-v1
VERSION:2.0
METHOD:PUBLISH
BEGIN:VTIMEZONE
TZID:Europe/London
X-LIC-LOCATION:Europe/London
BEGIN:DAYLIGHT
TZOFFSETFROM:+0000
TZOFFSETTO:+0100
TZNAME:BST
DTSTART:19700329T010000
RRULE:FREQ=YEARLY;BYMONTH=3;BYDAY=-1SU
END:DAYLIGHT
BEGIN:STANDARD
TZOFFSETFROM:+0100
TZOFFSETTO:+0000
TZNAME:GMT
DTSTART:19701025T020000
RRULE:FREQ=YEARLY;BYMONTH=10;BYDAY=-1SU
END:STANDARD
END:VTIMEZONE
BEGIN:VEVENT
UID:4626108:Event:36211
DTSTAMP:20260421T163209Z
SUMMARY:FREE Breakfast Seminar, Guildford
DESCRIPTION:Make social media work for your business\n\nFGCS Social Me
 dia and JMA HR &Legal  have teamed together to bring you a fresh app
 roach to tackling this hot topic. We'll be talking about the following
  aspects of using social media for your business, and answering your 
 questions as well.\n\nWhat is social media?\nHow can you use social me
 dia for business?\nHow to get started and why you need a strategy.\nWh
 at should a social media policy look like?\nHow do you protect your bu
 siness's reputation in this virtual world?\nHow do you protect your bu
 siness contacts and confidential information?\nWhat to avoid when usin
 g social media for recruitment.\n\nThe event starts at 8.30am and we a
 im to finish at 10.30am -pre-booking is essential to secure your free 
 place\nCoffee/tea and pastries will be served from 8.00am.\n\n\nPLEASE
  CLICK HERE TO BOOK\nMAP\nParking: Ample and free\n \n\nFor more info
 rmation visit https://networkinginsurrey.co.uk/events/free-seminar-mak
 e-social-media-work-for-your-business
DTSTART;TZID=Europe/London:20111201T080000
DTEND;TZID=Europe/London:20111201T103000
CATEGORIES:free, seminar, breakfast, guildford
LOCATION:Holiday Inn Guildford
WEBSITE:http://www.holidayinn.co.uk
URL:http://www.holidayinn.co.uk
CONTACT:01252 821792
ORGANIZER;CN="Lyn French":https://networkinginsurrey.co.uk/profile/Lyn
 French
ATTACH;FMTTYPE="image/jpeg":http://storage.ning.com/topology/rest/1.0/
 file/get/2591396755?profile=original
ATTENDEE;ROLE=REQ-PARTICIPANT;PARTSTAT=ACCEPTED;RSVP=TRUE;CN="Lyn Fren
 ch":https://networkinginsurrey.co.uk/profile/LynFrench
END:VEVENT
END:VCALENDAR
