BEGIN:VCALENDAR
PRODID:NingEventWidget-v1
VERSION:2.0
METHOD:PUBLISH
BEGIN:VTIMEZONE
TZID:Europe/London
X-LIC-LOCATION:Europe/London
BEGIN:DAYLIGHT
TZOFFSETFROM:+0000
TZOFFSETTO:+0100
TZNAME:BST
DTSTART:19700329T010000
RRULE:FREQ=YEARLY;BYMONTH=3;BYDAY=-1SU
END:DAYLIGHT
BEGIN:STANDARD
TZOFFSETFROM:+0100
TZOFFSETTO:+0000
TZNAME:GMT
DTSTART:19701025T020000
RRULE:FREQ=YEARLY;BYMONTH=10;BYDAY=-1SU
END:STANDARD
END:VTIMEZONE
BEGIN:VEVENT
UID:4626108:Event:3292
DTSTAMP:20260425T161500Z
SUMMARY:FREE Save Tax and Prosper Afternoon Seminar, Reigate
DESCRIPTION:Save Tax and Prosper Seminar\n\nConfused? Paying too much 
 tax?...or not sure? To help you get to grips with your finances in the
  new era of austerity, Concept Financial Planning and Vista Partners L
 LP will be holding a seminar at Dunottar School in Reigate Surrey on 1
 2th August 2010 During the seminar we will guide you through a host of
  ways to save tax and make the most of your financial resources. This 
 will include;\nTax planning for start ups\nTax efficient investments\n
 Remuneration and benefit packages\nWays to invest in property\nFunding
  your retirement\nTax efficient ways to fund your business growth\nTax
  efficient ways to meet education costs\nSuccession planning\nInherita
 nce tax mitigation\n\nWho should attend on the 12th August?\nAnyone wa
 nting to reduce the burden of the following taxes:\nIncome Tax\nCapita
 l Gains Tax\nInheritance Tax\nCorporation Tax\nValue Added Tax - VAT\n
 National Insurance\nDuring the course of 90 minutes we will provide yo
 u with a wealth of information to help you get your business and perso
 nal finances on track enabling you to save money in this new era.\nYou
 r speakers today are NiS Member David Anderson of Concept Financial Pl
 anning and Charles Owen of Vista Partners LLP. There will be plenty of
  opportunities to ask questions - David and Charlie will not leave unt
 il all of your questions are answered!\n\nDavid has been advising priv
 ate clients and businesses for the last 10 years, on all aspects of ta
 x. He is one of the few Chartered Financial Planners in the country an
 d a member of The Personal Finance Society. David is also the author o
 f the published book - 'Inheritance Tax Principles and Solutions'.\nCh
 arlie is a qualified Chartered Accountant and Chartered Tax Adviser wh
 o has considerable experience in advising both businesses and individu
 als on a wide range of tax planning issues. Previously, he has worked 
 for a big four practice as well as a smaller regional firm.\nCOST: Thi
 s initial seminar is FREE - future seminars in this series will cost Â
 £35 per person. BOOK HERE\nVENUE & MAP\n------------------------------
 -----\nVista Partners LLP has been providing accountancy and tax servi
 ces to the local community for over 100 years. The firm has drawn its 
 partners and senior management from the larger national accountancy fi
 rms, giving it the skills and expertise required to help businesses su
 cceed. Vista tax consultancy services are a particular strength.\nConc
 ept Financial Planning boasts a professional, highly qualified and tal
 ented team whose sole objective is to deliver to our clients, the high
 est quality professional financial planning services. Our advisers hav
 e achieved either Chartered or Certified Financial Planner status putt
 ing them among the best qualified advisers in the country. We speciali
 se in advising clients on retirement planning and tax mitigation.\n\nF
 or more information visit https://networkinginsurrey.co.uk/events/free
 -save-tax-and-prosper
DTSTART;TZID=Europe/London:20100812T163000
DTEND;TZID=Europe/London:20100812T180000
CATEGORIES:free, seminar, reigate
LOCATION:Dunottar School, Reigate RH2 7EL
WEBSITE:http://www.conceptfp.com
URL:http://www.conceptfp.com
CONTACT:
ORGANIZER:David Anderson
ATTACH;FMTTYPE="image/jpeg":http://storage.ning.com/topology/rest/1.0/
 file/get/2591382648?profile=original
END:VEVENT
END:VCALENDAR
