BEGIN:VCALENDAR
PRODID:NingEventWidget-v1
VERSION:2.0
METHOD:PUBLISH
BEGIN:VTIMEZONE
TZID:Europe/London
X-LIC-LOCATION:Europe/London
BEGIN:DAYLIGHT
TZOFFSETFROM:+0000
TZOFFSETTO:+0100
TZNAME:BST
DTSTART:19700329T010000
RRULE:FREQ=YEARLY;BYMONTH=3;BYDAY=-1SU
END:DAYLIGHT
BEGIN:STANDARD
TZOFFSETFROM:+0100
TZOFFSETTO:+0000
TZNAME:GMT
DTSTART:19701025T020000
RRULE:FREQ=YEARLY;BYMONTH=10;BYDAY=-1SU
END:STANDARD
END:VTIMEZONE
BEGIN:VEVENT
UID:4626108:Event:6793
DTSTAMP:20260423T022914Z
SUMMARY:FREE Richmond Business Expo 2011 Afternoon & Evening, Twickenh
 am
DESCRIPTION:\nIt’s back… and it’s going to be even better again!
 Up to 100 businesses showcasing a wealth of ideas, support and solutio
 ns for business, leisure and home.PLUS: Not to be missed FREE seminar 
 from multi award-winning entrepreneur Nigel Botterill.\n \n\nWhy visi
 t this FREE event?\nIt will be incredibly useful!\nA wealth of advice,
  support and solutions for business, leisure and home\nA not to be mis
 sed fast paced, humorous and engaging seminar with top UK entrepreneur
  Nigel Botterill\nFabulous offers and freebies\nFruitful networking\n\
 nWhat’s happening?Up to 100 local businesses will be showcasing at t
 his vibrant and fruitful event. From web designers to tradesmen, solic
 itors to restaurants, health & fitness experts to marketers – you wi
 ll find something useful.\n\n1pm: FREE seminar: The 18 Secrets that Su
 per Successful Business Owners Know - and Do … (that most business o
 wners don’t know and don’t do!)  Nigel Botterill\n3pm: Doors open
  to the exhibition hall – relax and mingle (view list of exhibitors)
 \n8pm – 9pm: Networking drinks reception at the bar\n\n\nEntry is FR
 EE to pre-registered visitors (£10 on the door)\nREGISTER FOR YOUR FR
 EE VISITOR PASS HERE\nWhy not take a stand to promote your business?\n
 VIEW EXHIBITOR INFORMATION HERE\n \nMAP & DIRECTIONS\n---------------
 ---------\nthebestofrichmond helps to promote great businesses in Rich
 mond upon Thames through our high-profile website, direct marketing pu
 blications and dynamic business networking.\n\n\nFor more information 
 visit https://networkinginsurrey.co.uk/events/free-richmond-business-e
 xpo
DTSTART;TZID=Europe/London:20110412T150000
DTEND;TZID=Europe/London:20110412T210000
CATEGORIES:business, expo, richmond, free
LOCATION:Twickenham Stadium TW1 1DZ
WEBSITE:http://www.richmondexpo.co.uk
URL:http://www.richmondexpo.co.uk
CONTACT:020 3002 4100
ORGANIZER;CN="Nick Taimitarha":https://networkinginsurrey.co.uk/profil
 e/NickTaimitarha
ATTACH;FMTTYPE="image/jpeg":http://storage.ning.com/topology/rest/1.0/
 file/get/2591390089?profile=original
ATTENDEE;ROLE=REQ-PARTICIPANT;PARTSTAT=ACCEPTED;RSVP=TRUE;CN="John D. 
 Udal":https://networkinginsurrey.co.uk/profile/JohnDUdal
ATTENDEE;ROLE=REQ-PARTICIPANT;PARTSTAT=ACCEPTED;RSVP=TRUE;CN="Nick Tai
 mitarha":https://networkinginsurrey.co.uk/profile/NickTaimitarha
ATTENDEE;ROLE=REQ-PARTICIPANT;PARTSTAT=ACCEPTED;RSVP=TRUE;CN="Mark Law
 son":https://networkinginsurrey.co.uk/profile/MarkLawson
END:VEVENT
END:VCALENDAR
