BEGIN:VCALENDAR
PRODID:NingEventWidget-v1
VERSION:2.0
METHOD:PUBLISH
BEGIN:VTIMEZONE
TZID:Europe/London
X-LIC-LOCATION:Europe/London
BEGIN:DAYLIGHT
TZOFFSETFROM:+0000
TZOFFSETTO:+0100
TZNAME:BST
DTSTART:19700329T010000
RRULE:FREQ=YEARLY;BYMONTH=3;BYDAY=-1SU
END:DAYLIGHT
BEGIN:STANDARD
TZOFFSETFROM:+0100
TZOFFSETTO:+0000
TZNAME:GMT
DTSTART:19701025T020000
RRULE:FREQ=YEARLY;BYMONTH=10;BYDAY=-1SU
END:STANDARD
END:VTIMEZONE
BEGIN:VEVENT
UID:4626108:Event:279420
DTSTAMP:20260422T112942Z
SUMMARY:FREE RH Networking Evening Online
DESCRIPTION:FREE RH Networking Evening at Your House \r\nWhat a crazy
  few weeks it has been. I hope that everyone has managed to stay safe,
  keep busy and make the best of what is a difficult time. \r\nNormall
 y at the beginning of the month I would be doing the final planning fo
 r the next event; checking in with the venue, sending out details of c
 ar parking, printing name badges (which does take ages) and getting so
 me wine in for the business card draw. \r\nWith loads of online / vid
 eo meetings going on this week, I have been thinking about how to run 
 April's RH Networking event online. Having up to 50 people on a video 
 call seemed a bit mad; no-one would be heard at all.\r\nSo, I have dec
 ided to go with the following: \r\n\r\nRecord your own video message,
  something between 30-60 seconds\r\nMake sure your video includes: \r
 \n\r\nYour name \r\nYour business name \r\nWhat you do\r\nAny specif
 ic challenges you have and any help you require \r\nHow to get in con
 tact \r\n\r\n\r\nBe creative if you can; a dance, a song, a silly hat
 , get your kids involved\r\n\r\nSend me your video by email (or WeTran
 sfer) no later than 9am on Monday 20th April (I'll need some time to c
 heck and edit the final video).\r\nPlease send videos to info@rhnetwo
 rking.co.uk \r\nAll the submitted videos will be knitted together to 
 make one, which will be played on the 22nd at 6:30pm, so grab a coffee
 , tune in to watch and to comment on each video (I think we'll be usin
 g You Tube to showcase the video).\r\nFurther details about how to wat
 ch the video will be sent out on the 22nd April. \r\nBOOKING: Please
  CLICK HERE to register\r\n\n\nFor more information visit https://ne
 tworkinginsurrey.co.uk/events/free-rh-networking-evening-dorking
DTSTART;TZID=Europe/London:20200422T183000
DTEND;TZID=Europe/London:20200422T203000
CATEGORIES:networking
LOCATION:Your House
WEBSITE:
URL:
CONTACT:
ORGANIZER;CN="Dan Reynolds":https://networkinginsurrey.co.uk/profile/D
 anReynolds
ATTACH;FMTTYPE="image/jpeg":https://storage.ning.com/topology/rest/1.0
 /file/get/3666541397?profile=original
ATTENDEE;ROLE=REQ-PARTICIPANT;PARTSTAT=ACCEPTED;RSVP=TRUE;CN="Dan Reyn
 olds":https://networkinginsurrey.co.uk/profile/DanReynolds
END:VEVENT
END:VCALENDAR
