BEGIN:VCALENDAR
PRODID:NingEventWidget-v1
VERSION:2.0
METHOD:PUBLISH
BEGIN:VTIMEZONE
TZID:Europe/London
X-LIC-LOCATION:Europe/London
BEGIN:DAYLIGHT
TZOFFSETFROM:+0000
TZOFFSETTO:+0100
TZNAME:BST
DTSTART:19700329T010000
RRULE:FREQ=YEARLY;BYMONTH=3;BYDAY=-1SU
END:DAYLIGHT
BEGIN:STANDARD
TZOFFSETFROM:+0100
TZOFFSETTO:+0000
TZNAME:GMT
DTSTART:19701025T020000
RRULE:FREQ=YEARLY;BYMONTH=10;BYDAY=-1SU
END:STANDARD
END:VTIMEZONE
BEGIN:VEVENT
UID:4626108:Event:5547
DTSTAMP:20260423T233445Z
SUMMARY:FREE Reigate and Redhill EveningTweet Up, Reigate
DESCRIPTION:\nMeet the Reigate and Redhill locals and finally put a fa
 ce to an avatar. Come out from behind the keyboard and have a chat, a 
 drink and with a bit of luck a laugh, in a really lovely local pub.\nC
 HECK IN HERE- see who's coming too...\nMAP\n\nFor more information vis
 it https://networkinginsurrey.co.uk/events/free-reigate-and-redhill
DTSTART;TZID=Europe/London:20101118T180000
DTEND;TZID=Europe/London:20101118T210000
CATEGORIES:free, tweetup, reigate
LOCATION:The Garland RH1 6PP
WEBSITE:http://twtvite.com/randrtweetup
URL:http://twtvite.com/randrtweetup
CONTACT:
ORGANIZER:The R&R Tweeters
ATTACH;FMTTYPE="image/jpeg":http://storage.ning.com/topology/rest/1.0/
 file/get/2591388643?profile=original
ATTENDEE;ROLE=REQ-PARTICIPANT;PARTSTAT=ACCEPTED;RSVP=TRUE;CN="Jane Les
 ter":https://networkinginsurrey.co.uk/profile/JaneLester
ATTENDEE;ROLE=REQ-PARTICIPANT;PARTSTAT=ACCEPTED;RSVP=TRUE;CN="Alan Rog
 ers":https://networkinginsurrey.co.uk/profile/DreamGeniusLtd
END:VEVENT
END:VCALENDAR
