BEGIN:VCALENDAR
PRODID:NingEventWidget-v1
VERSION:2.0
METHOD:PUBLISH
BEGIN:VTIMEZONE
TZID:Europe/London
X-LIC-LOCATION:Europe/London
BEGIN:DAYLIGHT
TZOFFSETFROM:+0000
TZOFFSETTO:+0100
TZNAME:BST
DTSTART:19700329T010000
RRULE:FREQ=YEARLY;BYMONTH=3;BYDAY=-1SU
END:DAYLIGHT
BEGIN:STANDARD
TZOFFSETFROM:+0100
TZOFFSETTO:+0000
TZNAME:GMT
DTSTART:19701025T020000
RRULE:FREQ=YEARLY;BYMONTH=10;BYDAY=-1SU
END:STANDARD
END:VTIMEZONE
BEGIN:VEVENT
UID:4626108:Event:9624
DTSTAMP:20260423T003308Z
SUMMARY:FREE Redhill & Reigate Tweetup 2 Evening, Merstham
DESCRIPTION:Redhill & Reigate Tweetup at the Feathers \n\nThis inform
 al and sociable event will provide an opportunity to meet local Twitte
 r users face-to-face for business or personal use. The event is free t
 o attend, and you don't even have to be on Twitter to come...\nJust co
 me out from behind the computer or mobile screen and meet face-to-face
 !\nFind out more about the event here on TwtVite - Redhill & Reigate T
 weetup  where you can also say if you plan to join us.\nMAP\n-------
 ----------------\nA Tweetup is a real world meeting between two or mor
 e people who know each other through the online Twitter service - and 
 'non-Twits' are welcome to come and be sociable too! This event is org
 anised by NiS Members Wendy Ager and Veronica Pullen\n\nFor more info
 rmation visit https://networkinginsurrey.co.uk/events/free-redhill-rei
 gate-tweetup
DTSTART;TZID=Europe/London:20110310T190000
DTEND;TZID=Europe/London:20110310T230000
CATEGORIES:social, "/", networking
LOCATION:The Feathers RH1 3EA
WEBSITE:http://twtvite.com/randrtweetup2
URL:http://twtvite.com/randrtweetup2
CONTACT:07900 806571
ORGANIZER:Wendy Ager, Get Better Coaching
ATTACH;FMTTYPE="image/jpeg":http://storage.ning.com/topology/rest/1.0/
 file/get/2591391815?profile=original
ATTENDEE;ROLE=REQ-PARTICIPANT;PARTSTAT=ACCEPTED;RSVP=TRUE;CN="Wendy Ag
 er":https://networkinginsurrey.co.uk/profile/WendyAger
END:VEVENT
END:VCALENDAR
