BEGIN:VCALENDAR
PRODID:NingEventWidget-v1
VERSION:2.0
METHOD:PUBLISH
BEGIN:VTIMEZONE
TZID:Europe/London
X-LIC-LOCATION:Europe/London
BEGIN:DAYLIGHT
TZOFFSETFROM:+0000
TZOFFSETTO:+0100
TZNAME:BST
DTSTART:19700329T010000
RRULE:FREQ=YEARLY;BYMONTH=3;BYDAY=-1SU
END:DAYLIGHT
BEGIN:STANDARD
TZOFFSETFROM:+0100
TZOFFSETTO:+0000
TZNAME:GMT
DTSTART:19701025T020000
RRULE:FREQ=YEARLY;BYMONTH=10;BYDAY=-1SU
END:STANDARD
END:VTIMEZONE
BEGIN:VEVENT
UID:4626108:Event:75031
DTSTAMP:20260426T003544Z
SUMMARY:FREE - Redhill & Reigate Tweetup Evening, Reigate
DESCRIPTION:Tweetup at Home Cottage Redhill\n\nJoin us for a social ev
 ening, with no agenda, no formalities, and bear in mind this is more o
 f a social than a business networking event - passing of business card
 s, if absolutely necessary, should be doneÂ discreetly!!\n Redhill & R
 eigate Tweetups started up again in Nov 2014. Â It used to be a fairly
  regular meet-up in 2010/11. Â This is a chance to catch up or meet up
  with those you would like to socialise with a little more and get to 
 know each other.<&nbsp> Come out from behind the screens and meet face
 -to-face! Â All positive, friendly, sociable people are most welcome.\
 nPleaseÂ CLICK HERE for more info...\n\nSee you there! Â Wendy Ager &Â
  Fiona Stewart\nCOST: FREE\nBOOKING: Just turn up & buy your own drink
 s/food/nibbleÂ \nMAP\n\nFor more information visit https://networkingi
 nsurrey.co.uk/events/free-redhill-reigate-tweetup-evening-reigate-1
DTSTART;TZID=Europe/London:20151007T193000
DTEND;TZID=Europe/London:20151007T220000
CATEGORIES:networking, social, free
LOCATION:The Yew Tree
WEBSITE:http://vite.io/RandRTweetups
URL:http://vite.io/RandRTweetups
CONTACT:07900 806571
ORGANIZER;CN="Wendy Ager":https://networkinginsurrey.co.uk/profile/Wen
 dyAger
ATTACH;FMTTYPE="image/jpeg":http://storage.ning.com/topology/rest/1.0/
 file/get/2591391815?profile=original
ATTENDEE;ROLE=REQ-PARTICIPANT;PARTSTAT=ACCEPTED;RSVP=TRUE;CN="Wendy Ag
 er":https://networkinginsurrey.co.uk/profile/WendyAger
END:VEVENT
END:VCALENDAR
