BEGIN:VCALENDAR
PRODID:NingEventWidget-v1
VERSION:2.0
METHOD:PUBLISH
BEGIN:VTIMEZONE
TZID:Europe/London
X-LIC-LOCATION:Europe/London
BEGIN:DAYLIGHT
TZOFFSETFROM:+0000
TZOFFSETTO:+0100
TZNAME:BST
DTSTART:19700329T010000
RRULE:FREQ=YEARLY;BYMONTH=3;BYDAY=-1SU
END:DAYLIGHT
BEGIN:STANDARD
TZOFFSETFROM:+0100
TZOFFSETTO:+0000
TZNAME:GMT
DTSTART:19701025T020000
RRULE:FREQ=YEARLY;BYMONTH=10;BYDAY=-1SU
END:STANDARD
END:VTIMEZONE
BEGIN:VEVENT
UID:4626108:Event:13707
DTSTAMP:20260424T173246Z
SUMMARY:FREE Redhill & Reigate Tweetup 3 Evening, Reigate
DESCRIPTION:Redhill & Reigate Tweetup at the Reigate Manor Hotel\n\nTh
 is informal and sociable event will provide an opportunity to meet loc
 al Twitter users face-to-face for business or personal use. The event 
 is free to attend, and you don't even have to be on Twitter to come...
 \nJust come out from behind the computer or mobile screen and meet fac
 e-to-face!\nRead Veronica's write-up of R&R Tweetup 2 here\nCLICK HERE
  TO REGISTER for this free event, just to let us know you're planning
  to attend...\nMAP\nDIRECTIONS\n--------------------------------------
 --\nA Tweetup is a real world meeting between two or more people who k
 now each other through the online Twitter service - and 'non-Twits' ar
 e welcome to come and be sociable too! This event is organised by NiS 
 Members Wendy Ager and Veronica Pullen\n \n\nFor more information vi
 sit https://networkinginsurrey.co.uk/events/free-redhill-reigate-tweet
 up-1
DTSTART;TZID=Europe/London:20110615T190000
DTEND;TZID=Europe/London:20110615T230000
CATEGORIES:social, free, twitter
LOCATION:Reigate Manor Hotel RH2 9PF
WEBSITE:http://twtvite.com/RedhillandReigateTweetup3
URL:http://twtvite.com/RedhillandReigateTweetup3
CONTACT:
ORGANIZER:Veronica Pullen
ATTACH;FMTTYPE="image/jpeg":http://storage.ning.com/topology/rest/1.0/
 file/get/2591391815?profile=original
ATTENDEE;ROLE=REQ-PARTICIPANT;PARTSTAT=ACCEPTED;RSVP=TRUE;CN="Jane Les
 ter":https://networkinginsurrey.co.uk/profile/JaneLester
ATTENDEE;ROLE=REQ-PARTICIPANT;PARTSTAT=ACCEPTED;RSVP=TRUE;CN="Bernice 
 White":https://networkinginsurrey.co.uk/profile/BerniceWhite957
ATTENDEE;ROLE=REQ-PARTICIPANT;PARTSTAT=ACCEPTED;RSVP=TRUE;CN="Keith Gr
 over, NiS Founder":https://networkinginsurrey.co.uk/profile/KeithGrove
 r
ATTENDEE;ROLE=REQ-PARTICIPANT;PARTSTAT=TENTATIVE;RSVP=TRUE;CN="Rob 'Ap
 p' Mead":https://networkinginsurrey.co.uk/profile/RobAppMead
END:VEVENT
END:VCALENDAR
