BEGIN:VCALENDAR
PRODID:NingEventWidget-v1
VERSION:2.0
METHOD:PUBLISH
BEGIN:VTIMEZONE
TZID:Europe/London
X-LIC-LOCATION:Europe/London
BEGIN:DAYLIGHT
TZOFFSETFROM:+0000
TZOFFSETTO:+0100
TZNAME:BST
DTSTART:19700329T010000
RRULE:FREQ=YEARLY;BYMONTH=3;BYDAY=-1SU
END:DAYLIGHT
BEGIN:STANDARD
TZOFFSETFROM:+0100
TZOFFSETTO:+0000
TZNAME:GMT
DTSTART:19701025T020000
RRULE:FREQ=YEARLY;BYMONTH=10;BYDAY=-1SU
END:STANDARD
END:VTIMEZONE
BEGIN:VEVENT
UID:4626108:Event:13404
DTSTAMP:20260422T190506Z
SUMMARY:FREE Quantum Leap Club Afternoon, Chertsey
DESCRIPTION:Free Afternoon Networking at River Bourne Health Club\n\nQ
 uantum Leap Club is an exciting opportunity for small businesses in an
 d around Chertsey to meet like-minded people and engage in both inform
 al and structured networking.\nAn ideal place to pick up new customers
 , expand your local profile and exchange ideas, attending the Quantum 
 Leap Club is the perfect way to kick start your business as the recess
 ion comes to an end.\nThe format of our events is generally very infor
 mal business to business networking. The meetings are completely free 
 of charge to all that attend and you can even bring your own promotion
 al material or small pop up stands to enhance your presence each month
 .\nIf you would like to be informed of future Quantum Leap Club events
 , please register your e-mail address with simon@alanjames.co.uk\nIf y
 ou would be interested in hosting a stand at a future event, or making
  a 5 minute presentation to our members to advertise your business in 
 detail, please contact Alan James or Simon Dawkins on 01932 579790 to 
 discuss this.\nCOST: This is a free event\nBOOKING: There's no need to
  book - just come along!\nMAP\n---------------------------------------
 -----\nQuantum Leap Club is overseen by Alan James FCA, who was a fou
 nding member of the Elmbridge Business Network International (BNI), an
 d as such has been generating leads and contacts for members for nearl
 y ten years. Having recently moved his successful accountancy practice
  into Quantum House after 20 years in business, Alan is seeking to com
 bine the pro-active networking environment of BNI with the expert acco
 unting and business knowledge of Alan James & Co. This will bring a un
 ique networking club to the heart of Chertsey town centre.\n\nFor more
  information visit https://networkinginsurrey.co.uk/events/free-quantu
 m-leap-club
DTSTART;TZID=Europe/London:20110404T163000
DTEND;TZID=Europe/London:20110404T180000
CATEGORIES:free, afternoon, chertsey, quantum_leap
LOCATION:River Bourne Health Club KT16 9DR
WEBSITE:http://www.quantumleapclub.co.uk/events/
URL:http://www.quantumleapclub.co.uk/events/
CONTACT:01932 579790
ORGANIZER:Alan James
ATTACH;FMTTYPE="image/jpeg":http://storage.ning.com/topology/rest/1.0/
 file/get/2591377592?profile=original
ATTENDEE;ROLE=REQ-PARTICIPANT;PARTSTAT=ACCEPTED;RSVP=TRUE;CN="Keith Gr
 over, NiS Founder":https://networkinginsurrey.co.uk/profile/KeithGrove
 r
END:VEVENT
END:VCALENDAR
