BEGIN:VCALENDAR
PRODID:NingEventWidget-v1
VERSION:2.0
METHOD:PUBLISH
BEGIN:VTIMEZONE
TZID:Europe/London
X-LIC-LOCATION:Europe/London
BEGIN:DAYLIGHT
TZOFFSETFROM:+0000
TZOFFSETTO:+0100
TZNAME:BST
DTSTART:19700329T010000
RRULE:FREQ=YEARLY;BYMONTH=3;BYDAY=-1SU
END:DAYLIGHT
BEGIN:STANDARD
TZOFFSETFROM:+0100
TZOFFSETTO:+0000
TZNAME:GMT
DTSTART:19701025T020000
RRULE:FREQ=YEARLY;BYMONTH=10;BYDAY=-1SU
END:STANDARD
END:VTIMEZONE
BEGIN:VEVENT
UID:4626108:Event:11665
DTSTAMP:20260422T215939Z
SUMMARY:FREE PushThatButton Evening, Croydon
DESCRIPTION:FREE Networking at Regus Croydon\n\nEngage – Everyone ge
 ts the opportunity to introduce themselves to the audience.\nTalk – 
 People buy people and so have time to get to know one another. Smile, 
 laugh and learn.\nGrow Together – Exchange contacts and ideas on how
  you can help each other grow your business.\n \nEvery week we provid
 e a guest speaker to talk about events in the media but more important
 ly roll out to you our growth modules. These have been written to supp
 ort growing businesses and are available to download online in video i
 f you have attended the event.\n\nVideo recordings are made of each ev
 ent and a full listing of each person attending will be provided withi
 n 1 day of the event taking place to make sure that you have not misse
 d any details.\nCOST: Free (Tea/Coffee and Biscuits /Cake provided!)\n
 Benefits\nNo:\n\nJoining Fee\nMembership\nCommitment\nAgenda for Meeti
 ng\n\nEngage\n\nIntroductions\nKey Speaker Seminar\n60 Second Pitch fr
 om each attendee\n\nTalk\nTime allocated to talk with each other\nGrow
  Together\nDiscuss with each other your business ideas and how you bel
 ieve you could help them.\nIf you attend 4 of our networking events yo
 u are given a 15 minute slot to talk about a subject of your choice to
  the team to let them know more about what you do.\nRemember networkin
 g is about relationship building and trust and so that must be the foc
 us.\nDIRECTIONS\n--------------------------------\nPush That Button pr
 ovides a new and refreshing look at the age old ritual of networking. 
 It happens all around the world but now it has taken the centre stage 
 in the revolutionary way to grow your business. Its time to get out an
 d about, it's time to Push that Button and accelerate yourselves to a 
 profitable and growing business.\n\nFor more information visit https:/
 /networkinginsurrey.co.uk/events/free-pushthatbutton-evening
DTSTART;TZID=Europe/London:20110407T180000
DTEND;TZID=Europe/London:20110407T200000
CATEGORIES:free, "evening.", croydon
LOCATION:Regus, The Lansdowne Building CR9 2ER
WEBSITE:http://www.ranosolutions.co.uk/pushthatbutton/
URL:http://www.ranosolutions.co.uk/pushthatbutton/
CONTACT:07926 977282
ORGANIZER:Mandi Thukral
ATTACH;FMTTYPE="image/jpeg":http://storage.ning.com/topology/rest/1.0/
 file/get/2591391468?profile=original
ATTENDEE;ROLE=REQ-PARTICIPANT;PARTSTAT=ACCEPTED;RSVP=TRUE;CN="Keith Gr
 over, NiS Founder":https://networkinginsurrey.co.uk/profile/KeithGrove
 r
END:VEVENT
END:VCALENDAR
