BEGIN:VCALENDAR
PRODID:NingEventWidget-v1
VERSION:2.0
METHOD:PUBLISH
BEGIN:VTIMEZONE
TZID:Europe/London
X-LIC-LOCATION:Europe/London
BEGIN:DAYLIGHT
TZOFFSETFROM:+0000
TZOFFSETTO:+0100
TZNAME:BST
DTSTART:19700329T010000
RRULE:FREQ=YEARLY;BYMONTH=3;BYDAY=-1SU
END:DAYLIGHT
BEGIN:STANDARD
TZOFFSETFROM:+0100
TZOFFSETTO:+0000
TZNAME:GMT
DTSTART:19701025T020000
RRULE:FREQ=YEARLY;BYMONTH=10;BYDAY=-1SU
END:STANDARD
END:VTIMEZONE
BEGIN:VEVENT
UID:4626108:Event:13541
DTSTAMP:20260422T143352Z
SUMMARY:FREE Purley Business Association Evening, Purley
DESCRIPTION:Purley Business Association at Cafe Nino\nThe PBA is a su
 pportive network of businesses from Purley and the surrounding area.
  We meet for networking and have an expert speaker on a business top
 ic .\nFollowing on from the local Social Media Twitter presentation 
 from Purley 2.0 Project's Jonny Rose, tonight's speaker is NiS Membe
 r Wendy Ager of Get Better Coaching, on the topic:\n'How to use Socia
 l Networking to Promote your Business - focus on Linkedin'\nCOST: Free
  to local businesses - just buy your own drinks.\nBOOKING: No need to
  book - just turn up on the night!\nMAP\n \n \n\nFor more informatio
 n visit https://networkinginsurrey.co.uk/events/free-purley-business
DTSTART;TZID=Europe/London:20110510T181500
DTEND;TZID=Europe/London:20110510T194500
CATEGORIES:purley, evening, purley_business_association
LOCATION:Cafe Nino, Purley  CR8 2BP
WEBSITE:http://www.purleybusiness.co.uk/
URL:http://www.purleybusiness.co.uk/
CONTACT:
ORGANIZER:Wendy Ager /Ian Harris, Jolly Farmer, Purley
ATTACH;FMTTYPE="image/jpeg":http://storage.ning.com/topology/rest/1.0/
 file/get/2591391602?profile=original
ATTENDEE;ROLE=REQ-PARTICIPANT;PARTSTAT=ACCEPTED;RSVP=TRUE;CN="Wendy Ag
 er":https://networkinginsurrey.co.uk/profile/WendyAger
ATTENDEE;ROLE=REQ-PARTICIPANT;PARTSTAT=TENTATIVE;RSVP=TRUE;CN="Sandra 
 Nambasa":https://networkinginsurrey.co.uk/profile/SandraNambasa
END:VEVENT
END:VCALENDAR
