BEGIN:VCALENDAR
PRODID:NingEventWidget-v1
VERSION:2.0
METHOD:PUBLISH
BEGIN:VTIMEZONE
TZID:Europe/London
X-LIC-LOCATION:Europe/London
BEGIN:DAYLIGHT
TZOFFSETFROM:+0000
TZOFFSETTO:+0100
TZNAME:BST
DTSTART:19700329T010000
RRULE:FREQ=YEARLY;BYMONTH=3;BYDAY=-1SU
END:DAYLIGHT
BEGIN:STANDARD
TZOFFSETFROM:+0100
TZOFFSETTO:+0000
TZNAME:GMT
DTSTART:19701025T020000
RRULE:FREQ=YEARLY;BYMONTH=10;BYDAY=-1SU
END:STANDARD
END:VTIMEZONE
BEGIN:VEVENT
UID:4626108:Event:73548
DTSTAMP:20260419T182709Z
SUMMARY:FREE Purley Business Association Evening, Purley
DESCRIPTION:Purley Business Networking\n\n\nGet your Business cards re
 ady!\nFollowing last months sell out networking event Purley Business 
 has another open and free Business networking event for you. Was it ju
 st the wine that tempted you or the chance for some great networking?\
 nEither way book early as based on last month we expect a packed event
  and places are limited.\n\nCOST: FREE - just turn up and network - 
 but please book for catering purposes\nBOOKING: Please CLICK HERE to 
 book your free place\nMAP\n\nFor more information visit https://networ
 kinginsurrey.co.uk/events/free-purley-business-association-evening-pur
 ley
DTSTART;TZID=Europe/London:20150623T183000
DTEND;TZID=Europe/London:20150623T203000
CATEGORIES:networking
LOCATION:Palmerston House
WEBSITE:https://www.google.co.uk/maps/place/Purley,+Greater+London+CR8
 +2BR/@51.3414938,-0.1122299,17z/data=!3m1!4b1!4m2!3m1!1s0x4875fdf38cbb
 c3b1:0xb5616947e59b5564?hl=en
URL:https://www.google.co.uk/maps/place/Purley,+Greater+London+CR8+2BR
 /@51.3414938,-0.1122299,17z/data=!3m1!4b1!4m2!3m1!1s0x4875fdf38cbbc3b1
 :0xb5616947e59b5564?hl=en
CONTACT:07590 685 585
ORGANIZER:Ian Harris
ATTACH;FMTTYPE="image/jpeg":http://storage.ning.com/topology/rest/1.0/
 file/get/2591443098?profile=original
ATTENDEE;ROLE=REQ-PARTICIPANT;PARTSTAT=ACCEPTED;RSVP=TRUE;CN="Nicola G
 lover":https://networkinginsurrey.co.uk/profile/NicolaGlover
END:VEVENT
END:VCALENDAR
