BEGIN:VCALENDAR
PRODID:NingEventWidget-v1
VERSION:2.0
METHOD:PUBLISH
BEGIN:VTIMEZONE
TZID:Europe/London
X-LIC-LOCATION:Europe/London
BEGIN:DAYLIGHT
TZOFFSETFROM:+0000
TZOFFSETTO:+0100
TZNAME:BST
DTSTART:19700329T010000
RRULE:FREQ=YEARLY;BYMONTH=3;BYDAY=-1SU
END:DAYLIGHT
BEGIN:STANDARD
TZOFFSETFROM:+0100
TZOFFSETTO:+0000
TZNAME:GMT
DTSTART:19701025T020000
RRULE:FREQ=YEARLY;BYMONTH=10;BYDAY=-1SU
END:STANDARD
END:VTIMEZONE
BEGIN:VEVENT
UID:4626108:Event:7267
DTSTAMP:20260422T094052Z
SUMMARY:FREE Profit from your Intellectual Property Morning Workshop, 
 Guildford
DESCRIPTION:Intellectual Property Morning Workshop\n \nA FEW FREE PLA
 CES ARE STILL AVAILABLE...\n\nLast few places available on our Intelle
 ctual Property event. Learn the true value of your Intellectual Proper
 ty, this workshop will take you through trade secrets, copyright, trad
 emarks & patents.\nBOOK NOW: Call Sharon Hammond on 01483 685 232 or e
 mall surreyhants@innovationgrowth.co.uk\nCOST: FREE -book now to secur
 e your place\nMAP\n----------------------------\nThroughout the year,
  the Surrey & Hants Innovation and Growth Team hosts a series of event
 s designed to help our members and others in the business community.Th
 ese events include interactive workshops, seminars and briefings, and 
 almost always offer the chance to network with individuals and busines
 ses.\n\nFor more information visit https://networkinginsurrey.co.uk/ev
 ents/free-profit-from-your
DTSTART;TZID=Europe/London:20110128T080000
DTEND;TZID=Europe/London:20110128T103000
CATEGORIES:free, workshop, morning, guildford
LOCATION:The Surrey Research Park GU2 7EF
WEBSITE:
URL:
CONTACT:01483 685 232
ORGANIZER:Sharon Hammond, Surrey & Hants Innovation and Growth Team
ATTACH;FMTTYPE="image/jpeg":http://storage.ning.com/topology/rest/1.0/
 file/get/2591389707?profile=original
ATTENDEE;ROLE=REQ-PARTICIPANT;PARTSTAT=ACCEPTED;RSVP=TRUE;CN="Keith Gr
 over, NiS Founder":https://networkinginsurrey.co.uk/profile/KeithGrove
 r
END:VEVENT
END:VCALENDAR
