BEGIN:VCALENDAR
PRODID:NingEventWidget-v1
VERSION:2.0
METHOD:PUBLISH
BEGIN:VTIMEZONE
TZID:Europe/London
X-LIC-LOCATION:Europe/London
BEGIN:DAYLIGHT
TZOFFSETFROM:+0000
TZOFFSETTO:+0100
TZNAME:BST
DTSTART:19700329T010000
RRULE:FREQ=YEARLY;BYMONTH=3;BYDAY=-1SU
END:DAYLIGHT
BEGIN:STANDARD
TZOFFSETFROM:+0100
TZOFFSETTO:+0000
TZNAME:GMT
DTSTART:19701025T020000
RRULE:FREQ=YEARLY;BYMONTH=10;BYDAY=-1SU
END:STANDARD
END:VTIMEZONE
BEGIN:VEVENT
UID:4626108:Event:14207
DTSTAMP:20260422T130937Z
SUMMARY:FREE PRE-LAUNCH EVENT: Cashback Networking Evening, Guildford
DESCRIPTION:Meet the Founders of Cashback Networking at the Guildford 
 Parkway\n\nLaunched in Sussex in April 2011, Cashback Networking is a 
 new and imaginative style of Business Networking, where everybody gain
 s.\nYou make referrals to other members of the group - and get paid fo
 r them!  Result?  Lots of happy people, working to promote each oth
 er's businesses and being rewarded for helping each other to find new 
 and satisfied customers. It really is a 'Win-Win' situation all round.
 \nPlease join us free of charge for the Surrey pre-launch networking
  gathering of this new-wave in Business Networking to make lots of ne
 w business contacts. See for yourself how easy and effective Cashback 
 Networking (CBN) could be for you.\nWe're expecting a good crowd, so b
 ring plenty of business cards!\nAt this free informal networking event
  you'll meet CBN Founders NiS Member Becky Patmore and her partner Ri
 ck Parish, Chair of Dorking Chamber - both veteran networkers and su
 ccessful entrepreneurs. They'll explain how it all works - includng th
 e unique 'money-back' guarantee that ensures CBN Members have nothing
  to lose, and everyting to gain! Rick and Becky are keen to hear you
 r feedback prior to the official Guildford group launch on 24 May...\
 nCOST: Free to attend\nCLICK HERE TO BOOK Please register to attend fo
 r free, so we can let the venue know out of courtesy how much room w
 e will need!\nMAP take the small entrance turnoff to the left of The S
 pectrum Leisure Centre entrance on the map (opposite side to Lido Road
 ). Parking is free, but there is currently construction taking place w
 hich may limit the spaces available. As a fallback option, the Spectru
 m's large free car park is only a short stroll away.\n -------------
 ---------------------------------\nCashback Networking meetings take p
 lace twice monthly between 5pm to 7pm so there are no more early mo
 rnings - and you're still home in time to see the family and have dinn
 er. Alternatively, stay on at the venue to continue networking over a 
 drink or a meal. CBN is looking for new Group Leaders who will get com
 mission payments for running meetings - please come along to find out 
 more... Click here to watch the Cashback intro video\n\nFor more infor
 mation visit https://networkinginsurrey.co.uk/events/free-prelaunch-ev
 ent-cashback
DTSTART;TZID=Europe/London:20110510T170000
DTEND;TZID=Europe/London:20110510T190000
CATEGORIES:free, launch, guilford, evening
LOCATION:The Premier Inn Table Restaurant GU1 1UP
WEBSITE:http://cashbacknetworking.co.uk/
URL:http://cashbacknetworking.co.uk/
CONTACT:
ORGANIZER;CN="Keith Grover, NiS Founder":https://networkinginsurrey.co
 .uk/profile/KeithGrover
ATTACH;FMTTYPE="image/jpeg":http://storage.ning.com/topology/rest/1.0/
 file/get/2591392917?profile=original
ATTENDEE;ROLE=REQ-PARTICIPANT;PARTSTAT=ACCEPTED;RSVP=TRUE;CN="Keith Gr
 over, NiS Founder":https://networkinginsurrey.co.uk/profile/KeithGrove
 r
ATTENDEE;ROLE=REQ-PARTICIPANT;PARTSTAT=ACCEPTED;RSVP=TRUE;CN="Becky Pa
 tmore":https://networkinginsurrey.co.uk/profile/BeckyPatmore
ATTENDEE;ROLE=REQ-PARTICIPANT;PARTSTAT=TENTATIVE;RSVP=TRUE;CN="Kay Ang
 ell":https://networkinginsurrey.co.uk/profile/KayAngell
END:VEVENT
END:VCALENDAR
