BEGIN:VCALENDAR
PRODID:NingEventWidget-v1
VERSION:2.0
METHOD:PUBLISH
BEGIN:VTIMEZONE
TZID:Europe/London
X-LIC-LOCATION:Europe/London
BEGIN:DAYLIGHT
TZOFFSETFROM:+0000
TZOFFSETTO:+0100
TZNAME:BST
DTSTART:19700329T010000
RRULE:FREQ=YEARLY;BYMONTH=3;BYDAY=-1SU
END:DAYLIGHT
BEGIN:STANDARD
TZOFFSETFROM:+0100
TZOFFSETTO:+0000
TZNAME:GMT
DTSTART:19701025T020000
RRULE:FREQ=YEARLY;BYMONTH=10;BYDAY=-1SU
END:STANDARD
END:VTIMEZONE
BEGIN:VEVENT
UID:4626108:Event:97051
DTSTAMP:20260422T222659Z
SUMMARY:FREE Pool'd Benefits Networking Afternoon, Redhill
DESCRIPTION:Pool'd Benefits Evening Networking at Brooklyn Bar and Bil
 liards\n\nPool’d Benefits is a business networking event held over a
  friendly game of pool.\nIt’s a fantastic opportunity for local key 
 decision makers to meet fellow business leaders who enjoy an informal 
 evening of entertainment.\nThe event has been organised by Towergate H
 ealth & Protection. Towergate Health & Protection are a part of Europe
 ’s largest independent brokering firms covering general Insurance an
 d employee benefit needs.\nThe event is free to attend - and your firs
 t drink is on us!\nFood is available from the bar \nCOST: FREE to att
 end \nBOOKING: Please CLICK HERE to book your free place\nMAP\n\nFor 
 more information visit https://networkinginsurrey.co.uk/events/free-po
 ol-d-benefits-networking-afternoon-redhill
DTSTART;TZID=Europe/London:20180514T160000
DTEND;TZID=Europe/London:20180514T180000
CATEGORIES:evening, redhill, free
LOCATION:Brooklyn Bar and Billiards RH1 1QT
WEBSITE:https://www.eventbrite.com/e/poold-benefits-tickets-4401711738
 3?aff=NIS
URL:https://www.eventbrite.com/e/poold-benefits-tickets-44017117383?af
 f=NIS
CONTACT:07484 080250
ORGANIZER;CN="Terry Fromant":https://networkinginsurrey.co.uk/profile/
 TerryFromant
ATTACH;FMTTYPE="image/jpeg":http://storage.ning.com/topology/rest/1.0/
 file/get/2591470395?profile=original
ATTENDEE;ROLE=REQ-PARTICIPANT;PARTSTAT=ACCEPTED;RSVP=TRUE;CN="Terry Fr
 omant":https://networkinginsurrey.co.uk/profile/TerryFromant
ATTENDEE;ROLE=REQ-PARTICIPANT;PARTSTAT=ACCEPTED;RSVP=TRUE;CN="Lord Ham
 ilton of Glencoe":https://networkinginsurrey.co.uk/profile/BrianIanHam
 ilton
END:VEVENT
END:VCALENDAR
