BEGIN:VCALENDAR
PRODID:NingEventWidget-v1
VERSION:2.0
METHOD:PUBLISH
BEGIN:VTIMEZONE
TZID:Europe/London
X-LIC-LOCATION:Europe/London
BEGIN:DAYLIGHT
TZOFFSETFROM:+0000
TZOFFSETTO:+0100
TZNAME:BST
DTSTART:19700329T010000
RRULE:FREQ=YEARLY;BYMONTH=3;BYDAY=-1SU
END:DAYLIGHT
BEGIN:STANDARD
TZOFFSETFROM:+0100
TZOFFSETTO:+0000
TZNAME:GMT
DTSTART:19701025T020000
RRULE:FREQ=YEARLY;BYMONTH=10;BYDAY=-1SU
END:STANDARD
END:VTIMEZONE
BEGIN:VEVENT
UID:4626108:Event:11005
DTSTAMP:20260423T051515Z
SUMMARY:FREE Open Energy Surrey Conference Morning, Guildford
DESCRIPTION:Open Energy Conference at the Yvonne Arnaud\n\nWith energy
  prices predicted to rise by 60% over the next decade Surrey’s first
  Open Energy event for businesses will show how money can be saved, in
 come generated and environmental credentials improved, simply by intro
 ducing renewable energy measures into a business.\n\nOrganised by Surr
 ey County Council, the event will support Surrey’s own ambition to c
 ombat climate change by bringing together sustainable businesses, prom
 oting the responsible use of resources and encouraging a greener futur
 e.\nFinancial benefits * Case studies (on efficient lighting, combine
 d heat and power, solar photovoltaics (PV), biomass heating and proces
 s efficiency) * Supplier Market Place * Lunch - Full agenda to follow 
 soon...\nCOST: FreeDETAILS HERE on the Surrey Council Website\nBOOK HE
 RE\nMAP\n\n18 and 19 May 2011: Site tours - see energy efficiency inti
 atives in action at Venues throughout Surrey - Bookings taken from 2
 1 March for site tours.\nSites confirmed so far include:\n\nAudi , Cou
 lsdon- Biomass boiler, gas converting air conditioning\nAshley C of E 
 Primary School, Walton - solar PV and biomass fuelled boiler\nGuildfor
 d Borough Council - biomass boiler\nHarlequins Theatre, Redhill - effi
 cient lighting\niGuzzini, Guildford - efficient lighting\nThe Lightbox
 , Woking - passive ventilation and efficient heating and cooling, effi
 cient lighting, solar PV\nSAV Systems, Woking - Gas fuelled Combined H
 eat and Power plant\nSpace Air solutions - Air source heat pump\n\n\nF
 or more information visit https://networkinginsurrey.co.uk/events/free
 -open-energy-surrey
DTSTART;TZID=Europe/London:20110517T090000
DTEND;TZID=Europe/London:20110517T130000
CATEGORIES:business, conference, guildford, free
LOCATION:Yvonne Arnaud Theatre GU1 3UX
WEBSITE:http://www.surreycc.gov.uk/openenergy
URL:http://www.surreycc.gov.uk/openenergy
CONTACT:Heena Pankhania 03456 009 009
ORGANIZER:Surrey County Council
ATTACH;FMTTYPE="image/jpeg":http://storage.ning.com/topology/rest/1.0/
 file/get/2591390987?profile=original
ATTENDEE;ROLE=REQ-PARTICIPANT;PARTSTAT=ACCEPTED;RSVP=TRUE;CN="Felicity
  Stanbridge":https://networkinginsurrey.co.uk/profile/FelicityStanbrid
 ge
END:VEVENT
END:VCALENDAR
